BEGIN:VCALENDAR
VERSION:2.0
PRODID:-//jEvents 2.0 for Joomla//EN
CALSCALE:GREGORIAN
METHOD:PUBLISH
BEGIN:VEVENT
UID:0e93e9ebbcff5517945236e5df221664
CATEGORIES:2. Bezirk
CREATED:19700101T010000
SUMMARY:Babymassage Kurs I Shiatsu für Zwei I Hausbesuche möglich
LOCATION:Shiatsu für Zwei\, Krakauer Straße 19/4\, 1020 Wien
DESCRIPTION:Babymassage mit Shiatsu - Massagekurs in Kleingruppe\nIm Baby Massagekurs l
 ernst Du Dein Baby sanft an den richtigen Stellen zu drücken oder mit Öl en
 tlang zu streichen. Du lernst Dein Baby zu drehen und zu heben. Du lernst w
 elche Punkte und Körperstellen Dein Baby beim Zahnen unterstützen oder wenn
  es nicht einschlafen kann. Du lernst Tricks wie Dein Baby die Bauchlage zu
  schätzen lernt. Du lernst Fingerspiele und Freude an der Berührung. Und Du
  lernst aufmerksam zu spüren und zu beobachten was Dein Baby Dir gerade sag
 en möchte. \nBindung durch Berührung stärken. Einfache wirkungsvolle Berühr
 ungstechniken unterstützen Schlaf, Verdauung und Immunsystem.\nDie gemeinsa
 me Babymassage Anleitung hilft mit dem Baby zur Ruhe zu finden, ihm berühre
 nd nah zu sein und ungeteilte Aufmerksamkeit zu schenken. ​ Vermittelt wird
  Shiatsu fürs Baby als auch indische Babymassage, mit und ohne Öl.\n Isabel
 l Frick www.shiatsufuerzwei.at (http://www.shiatsufuerzwei.at/)\n \nAb wann
  ist Babymassage im Kurs sinnvoll?\nBabymassage mit Shiatsu unterstützt ab 
 dem ersten Lebenstag. Gerade in den ersten Lebenswochen, wenn Blähungen häu
 fig sind und die Beziehung erst aufgebaut wird, hat Babymassage mit Shiatsu
  einen ganz besonderen Wert.\nEine Teilnahme in der Gruppe empfehle ich etw
 a ab der 3. Lebenswoche bis zum 6. Lebensmonat. Davor seid ihr gerne für ei
 ne private Einheit willkommen - oder ich komme für einen Babymassage-mit-Sh
 iatsu-Hausbesuch zu euch nach Hause.\n \n
X-ALT-DESC;FMTTYPE=text/html:<p><strong>Babymassage mit Shiatsu - Massagekurs in Kleingruppe</strong></p
 ><p>Im Baby Massagekurs lernst Du Dein Baby sanft an den richtigen Stellen 
 zu drücken oder mit Öl entlang zu streichen. Du lernst Dein Baby zu drehen 
 und zu heben. Du lernst welche Punkte und Körperstellen Dein Baby beim Zahn
 en unterstützen oder wenn es nicht einschlafen kann. Du lernst Tricks wie D
 ein Baby die Bauchlage zu schätzen lernt. Du lernst Fingerspiele und Freude
  an der Berührung. Und Du lernst aufmerksam zu spüren und zu beobachten was
  Dein Baby Dir gerade sagen möchte.&nbsp;</p><p>Bindung durch Berührung stä
 rken. Einfache wirkungsvolle Berührungstechniken unterstützen Schlaf, Verda
 uung und Immunsystem.</p><p>Die gemeinsame Babymassage Anleitung hilft mit 
 dem Baby zur Ruhe zu finden, ihm berührend nah zu sein und ungeteilte Aufme
 rksamkeit zu schenken. ​ Vermittelt wird Shiatsu fürs Baby als auch indisch
 e Babymassage, mit und ohne Öl.</p><p><span style="font-size: 16px; white-s
 pace: pre-wrap; caret-color: #615454; color: #615454; font-family: Lato, sa
 ns-serif;"> Isabell Frick </span><a href="http://www.shiatsufuerzwei.at/" s
 tyle="font-size: 16px; white-space: pre-wrap; box-sizing: border-box; margi
 n: 0px; padding: 0px; color: #ec776a; font-family: Lato, sans-serif;">www.s
 hiatsufuerzwei.at</a></p><p>&nbsp;</p><p>Ab wann ist Babymassage im Kurs si
 nnvoll?</p><p>Babymassage mit Shiatsu unterstützt ab dem ersten Lebenstag. 
 Gerade in den ersten Lebenswochen, wenn Blähungen häufig sind und die Bezie
 hung erst aufgebaut wird, hat Babymassage mit Shiatsu einen ganz besonderen
  Wert.</p><p>Eine Teilnahme in der Gruppe empfehle ich etwa ab der 3. Leben
 swoche bis zum 6. Lebensmonat. Davor seid ihr gerne für eine private Einhei
 t willkommen - oder ich komme für einen Babymassage-mit-Shiatsu-Hausbesuch 
 zu euch nach Hause.</p><p>&nbsp;</p>
CONTACT:isabell@shiatsufuerzwei.at
X-EXTRAINFO:[preis='11500'][anmeldung='true']
DTSTAMP:20260423T191548
DTSTART:20240924T090000
DTEND:20240924T100000
SEQUENCE:0
RRULE:FREQ=WEEKLY;UNTIL=20241023T000000Z;INTERVAL=1;BYDAY=TU
TRANSP:OPAQUE
END:VEVENT
END:VCALENDAR