BEGIN:VCALENDAR
VERSION:2.0
PRODID:-//jEvents 2.0 for Joomla//EN
CALSCALE:GREGORIAN
METHOD:PUBLISH
BEGIN:VEVENT
UID:456a3b06bf6c73b642bdaaf6cabdc5e6
CATEGORIES:13. Bezirk
CREATED:20240605T092759
SUMMARY:Mantrasingen mit Baby
LOCATION:Geburtsjaus\, Hietzinger Hptstr. 50\,1130 Wien
DESCRIPTION: MANTRASINGEN mit Baby\nbeim gemeinsamen MEDITATIVEN und heilsamen Mantrasi
 ngen kannst du Verspannungen lösen und Stress abbauen, abschalten, zur Ruhe
  kommen, Lebensfreude und Kraft tanken.\n \nDIENSTAG 21.10.2024 \nim Geburt
 shaus, Hietzinger Hauptstrasse 50/1, 1130 Wien \nvon 13:30 - 14:30 UHR\n \n
 Mantras sind Kraftquellen und Segenslieder für Mutter und Kind. Das ist vor
  allem für die ersten Lebensjahre sehr wertvoll. Komm mit deinem Kind oder 
 deinem (auch noch ungeborenen) Baby und spüre die heilsame Wirkung von Mant
 ras. Singen macht glücklich und stärkt das Immunsystem. Mit einem wundersch
 önen Schutzmantra und einer Tasse Tee sowie kleinen Snacks beschließen wir 
 die Runde und hinterher bleibt noch ein wenig Zeit für Austausch mit andere
 n Mamis. Come as you are AND pay as you can  (also freie Spende ca.10,00-20
 ,00 Euro) \nIch bitte um verbindliche Anmeldung unter: office@yogavibe.at (
 mailto:office@yogavibe.at)  (Eva)\nweitere Infos warum wir Mantras singen s
 ollen 😊findest du auch auf meiner website: www.yogavibe.at (http://www.yoga
 vibe.at) unter Termine:\n11.11. und 3.12. findet vorausscihtlich wieder ein
  Mantrasingen statt. Melde dich genre über meine website zum Newsletter an 
 und versäume keinen Termin mehr.\n
X-ALT-DESC;FMTTYPE=text/html:<p style="margin: 0px 0px 0px 56.6px; text-align: center; text-indent: 28.3
 px; font-style: normal; font-variant-caps: normal; font-stretch: normal; fo
 nt-size: 38px; line-height: normal; font-family: Chalkboard; font-size-adju
 st: none; font-kerning: auto; font-variant-alternates: normal; font-variant
 -ligatures: normal; font-variant-numeric: normal; font-variant-east-asian: 
 normal; font-variant-position: normal; font-variant-emoji: normal; font-fea
 ture-settings: normal; font-optical-sizing: auto; font-variation-settings: 
 normal; color: #e2301c;">&nbsp;MANTRASINGEN mit Baby</p><p style="margin: 0
 px 0px 0px 85px; font-style: normal; font-variant-caps: normal; font-stretc
 h: normal; line-height: normal; font-family: Chalkboard; font-size-adjust: 
 none; font-kerning: auto; font-variant-alternates: normal; font-variant-lig
 atures: normal; font-variant-numeric: normal; font-variant-east-asian: norm
 al; font-variant-position: normal; font-variant-emoji: normal; font-feature
 -settings: normal; font-optical-sizing: auto; font-variation-settings: norm
 al; color: #000000;">beim gemeinsamen MEDITATIVEN und heilsamen Mantrasinge
 n kannst du Verspannungen lösen und Stress abbauen, abschalten, zur Ruhe ko
 mmen, Lebensfreude und Kraft tanken.</p><p style="margin: 0px 0px 0px 85px;
  text-align: center; font-style: normal; font-variant-caps: normal; font-st
 retch: normal; font-size: 14px; line-height: normal; font-family: Chalkboar
 d; font-size-adjust: none; font-kerning: auto; font-variant-alternates: nor
 mal; font-variant-ligatures: normal; font-variant-numeric: normal; font-var
 iant-east-asian: normal; font-variant-position: normal; font-variant-emoji:
  normal; font-feature-settings: normal; font-optical-sizing: auto; font-var
 iation-settings: normal; color: #e2301c; min-height: 18px;">&nbsp;</p><p st
 yle="margin: 0px 0px 0px 85px; text-align: center; font-style: normal; font
 -variant-caps: normal; font-stretch: normal; font-size: 28px; line-height: 
 normal; font-family: Chalkboard; font-size-adjust: none; font-kerning: auto
 ; font-variant-alternates: normal; font-variant-ligatures: normal; font-var
 iant-numeric: normal; font-variant-east-asian: normal; font-variant-positio
 n: normal; font-variant-emoji: normal; font-feature-settings: normal; font-
 optical-sizing: auto; font-variation-settings: normal; color: #e2301c;">DIE
 NSTAG 21.10.2024&nbsp;</p><p style="margin: 0px 0px 0px 85px; text-align: c
 enter; font-style: normal; font-variant-caps: normal; font-stretch: normal;
  font-size: 15px; line-height: normal; font-family: Chalkboard; font-size-a
 djust: none; font-kerning: auto; font-variant-alternates: normal; font-vari
 ant-ligatures: normal; font-variant-numeric: normal; font-variant-east-asia
 n: normal; font-variant-position: normal; font-variant-emoji: normal; font-
 feature-settings: normal; font-optical-sizing: auto; font-variation-setting
 s: normal; color: #e2301c;">im Geburtshaus, Hietzinger Hauptstrasse 50/1, 1
 130 Wien&nbsp;</p><p style="margin: 0px 0px 0px 85px; text-align: center; f
 ont-style: normal; font-variant-caps: normal; font-stretch: normal; font-si
 ze: 15px; line-height: normal; font-family: Chalkboard; font-size-adjust: n
 one; font-kerning: auto; font-variant-alternates: normal; font-variant-liga
 tures: normal; font-variant-numeric: normal; font-variant-east-asian: norma
 l; font-variant-position: normal; font-variant-emoji: normal; font-feature-
 settings: normal; font-optical-sizing: auto; font-variation-settings: norma
 l; color: #e2301c;">von 13:30 - 14:30 UHR</p><p style="margin: 0px 0px 0px 
 85px; text-align: center; font-style: normal; font-variant-caps: normal; fo
 nt-stretch: normal; font-size: 14px; line-height: normal; font-family: Chal
 kboard; font-size-adjust: none; font-kerning: auto; font-variant-alternates
 : normal; font-variant-ligatures: normal; font-variant-numeric: normal; fon
 t-variant-east-asian: normal; font-variant-position: normal; font-variant-e
 moji: normal; font-feature-settings: normal; font-optical-sizing: auto; fon
 t-variation-settings: normal; color: #e2301c; min-height: 18px;">&nbsp;</p>
 <p style="margin: 0px 0px 0px 85px; font-style: normal; font-variant-caps: 
 normal; font-stretch: normal; font-size: 12px; line-height: normal; font-fa
 mily: Chalkboard; font-size-adjust: none; font-kerning: auto; font-variant-
 alternates: normal; font-variant-ligatures: normal; font-variant-numeric: n
 ormal; font-variant-east-asian: normal; font-variant-position: normal; font
 -variant-emoji: normal; font-feature-settings: normal; font-optical-sizing:
  auto; font-variation-settings: normal; color: #333333; background-color: r
 gba(255, 255, 255, 0.74);">Mantras sind Kraftquellen und Segenslieder für M
 utter und Kind. Das ist vor allem für die ersten Lebensjahre sehr wertvoll.
 &nbsp;<b>Komm mit deinem Kind oder deinem (auch noch ungeborenen) Baby und 
 spüre die heilsame Wirkung von Mantras. Singen macht glücklich und stärkt d
 as Immunsystem.&nbsp;</b>Mit einem wunderschönen Schutzmantra und einer Tas
 se Tee sowie kleinen Snacks beschließen wir die Runde und hinterher bleibt 
 noch ein wenig Zeit für Austausch mit anderen Mamis. Come as you are AND pa
 y as you can&nbsp; (also freie Spende ca.10,00-20,00 Euro)&nbsp;</p><p styl
 e="margin: 0px 0px 0px 85px; font-style: normal; font-variant-caps: normal;
  font-stretch: normal; font-size: 14px; line-height: normal; font-family: C
 halkboard; font-size-adjust: none; font-kerning: auto; font-variant-alterna
 tes: normal; font-variant-ligatures: normal; font-variant-numeric: normal; 
 font-variant-east-asian: normal; font-variant-position: normal; font-varian
 t-emoji: normal; font-feature-settings: normal; font-optical-sizing: auto; 
 font-variation-settings: normal; color: #e2301c; background-color: rgba(255
 , 255, 255, 0.74);"><span style="color: #333333;">Ich bitte um verbindliche
 &nbsp;</span>Anmeldung unter:&nbsp;<a href="mailto:office@yogavibe.at"><spa
 n style="color: #333333;">office@yogavibe.at</span></a>&nbsp; (Eva)<br />we
 itere Infos warum wir Mantras singen sollen&nbsp;<span style="font-family: 
 'Apple Color Emoji';">😊</span>findest du auch auf meiner website:&nbsp;<a h
 ref="http://www.yogavibe.at"><span style="color: #333333;">www.yogavibe.at<
 /span></a>&nbsp;unter Termine:</p><p>11.11. und 3.12. findet vorausscihtlic
 h wieder ein Mantrasingen statt. Melde dich genre über meine website zum Ne
 wsletter an und versäume keinen Termin mehr.</p>
CONTACT:office@yogavibe.at
X-EXTRAINFO:[preis='2000'][anmeldung='true']
DTSTAMP:20260423T091458
DTSTART:20241021T113000
DTEND:20241021T123000
SEQUENCE:0
TRANSP:OPAQUE
END:VEVENT
END:VCALENDAR