BEGIN:VCALENDAR
VERSION:2.0
PRODID:-//jEvents 2.0 for Joomla//EN
CALSCALE:GREGORIAN
METHOD:PUBLISH
BEGIN:VEVENT
UID:91e44b72be26fb252344baf3c89ce32f
CATEGORIES:13. Bezirk
CREATED:20240605T093906
SUMMARY:Mantrasingen mit Baby
LOCATION:Geburtshaus\, Hietzinger Hauptstrasse 50\, 1130 Wien
DESCRIPTION: MANTRASINGEN mit Baby\nbeim gemeinsamen MEDITATIVEN und heilsamen Mantrasi
 ngen kannst du Verspannungen lösen und Stress abbauen, abschalten, zur Ruhe
  kommen, Lebensfreude und Kraft tanken.\n \nMONTAG 11.11.2024 \nim Geburtsh
 aus, Hietzinger Hauptstrasse 50/1, 1130 Wien \nvon 16:00 - 17:00 UHR\n \nMa
 ntras sind Kraftquellen und Segenslieder für Mutter und Kind. Das ist vor a
 llem für die ersten Lebensjahre sehr wertvoll. Komm mit deinem Kind oder de
 inem (auch noch ungeborenen) Baby und spüre die heilsame Wirkung von Mantra
 s. Singen macht glücklich und stärkt das Immunsystem. Mit einem wunderschön
 en Schutzmantra und einer Tasse Tee sowie kleinen Snacks beschließen wir di
 e Runde und hinterher bleibt noch ein wenig Zeit für Austausch mit anderen 
 Mamis. \nIch bitte um verbindliche Anmeldung unter: office@yogavibe.at (mai
 lto:office@yogavibe.at)  (Eva)\nweitere Infos warum wir Mantras singen soll
 en 😊findest du auch auf meiner website: www.yogavibe.at (http://www.yogavib
 e.at) unter Termine\n \nnächster Termin: 3.12.2024\n
X-ALT-DESC;FMTTYPE=text/html:<p style="margin: 0px 0px 0px 56.6px; text-align: center; text-indent: 28.3
 px; font-style: normal; font-variant-caps: normal; font-stretch: normal; fo
 nt-size: 38px; line-height: normal; font-family: Chalkboard; font-size-adju
 st: none; font-kerning: auto; font-variant-alternates: normal; font-variant
 -ligatures: normal; font-variant-numeric: normal; font-variant-east-asian: 
 normal; font-variant-position: normal; font-variant-emoji: normal; font-fea
 ture-settings: normal; font-optical-sizing: auto; font-variation-settings: 
 normal; color: #e2301c;">&nbsp;MANTRASINGEN mit Baby</p><p style="margin: 0
 px 0px 0px 85px; font-style: normal; font-variant-caps: normal; font-stretc
 h: normal; line-height: normal; font-family: Chalkboard; font-size-adjust: 
 none; font-kerning: auto; font-variant-alternates: normal; font-variant-lig
 atures: normal; font-variant-numeric: normal; font-variant-east-asian: norm
 al; font-variant-position: normal; font-variant-emoji: normal; font-feature
 -settings: normal; font-optical-sizing: auto; font-variation-settings: norm
 al; color: #000000;">beim gemeinsamen MEDITATIVEN und heilsamen Mantrasinge
 n kannst du Verspannungen lösen und Stress abbauen, abschalten, zur Ruhe ko
 mmen, Lebensfreude und Kraft tanken.</p><p style="margin: 0px 0px 0px 85px;
  text-align: center; font-style: normal; font-variant-caps: normal; font-st
 retch: normal; font-size: 14px; line-height: normal; font-family: Chalkboar
 d; font-size-adjust: none; font-kerning: auto; font-variant-alternates: nor
 mal; font-variant-ligatures: normal; font-variant-numeric: normal; font-var
 iant-east-asian: normal; font-variant-position: normal; font-variant-emoji:
  normal; font-feature-settings: normal; font-optical-sizing: auto; font-var
 iation-settings: normal; color: #e2301c; min-height: 18px;">&nbsp;</p><p st
 yle="margin: 0px 0px 0px 85px; text-align: center; font-style: normal; font
 -variant-caps: normal; font-stretch: normal; font-size: 28px; line-height: 
 normal; font-family: Chalkboard; font-size-adjust: none; font-kerning: auto
 ; font-variant-alternates: normal; font-variant-ligatures: normal; font-var
 iant-numeric: normal; font-variant-east-asian: normal; font-variant-positio
 n: normal; font-variant-emoji: normal; font-feature-settings: normal; font-
 optical-sizing: auto; font-variation-settings: normal; color: #e2301c;">MON
 TAG 11.11.2024&nbsp;</p><p style="margin: 0px 0px 0px 85px; text-align: cen
 ter; font-style: normal; font-variant-caps: normal; font-stretch: normal; f
 ont-size: 15px; line-height: normal; font-family: Chalkboard; font-size-adj
 ust: none; font-kerning: auto; font-variant-alternates: normal; font-varian
 t-ligatures: normal; font-variant-numeric: normal; font-variant-east-asian:
  normal; font-variant-position: normal; font-variant-emoji: normal; font-fe
 ature-settings: normal; font-optical-sizing: auto; font-variation-settings:
  normal; color: #e2301c;">im Geburtshaus, Hietzinger Hauptstrasse 50/1, 113
 0 Wien&nbsp;</p><p style="margin: 0px 0px 0px 85px; text-align: center; fon
 t-style: normal; font-variant-caps: normal; font-stretch: normal; font-size
 : 15px; line-height: normal; font-family: Chalkboard; font-size-adjust: non
 e; font-kerning: auto; font-variant-alternates: normal; font-variant-ligatu
 res: normal; font-variant-numeric: normal; font-variant-east-asian: normal;
  font-variant-position: normal; font-variant-emoji: normal; font-feature-se
 ttings: normal; font-optical-sizing: auto; font-variation-settings: normal;
  color: #e2301c;">von 16:00 - 17:00 UHR</p><p style="margin: 0px 0px 0px 85
 px; text-align: center; font-style: normal; font-variant-caps: normal; font
 -stretch: normal; font-size: 14px; line-height: normal; font-family: Chalkb
 oard; font-size-adjust: none; font-kerning: auto; font-variant-alternates: 
 normal; font-variant-ligatures: normal; font-variant-numeric: normal; font-
 variant-east-asian: normal; font-variant-position: normal; font-variant-emo
 ji: normal; font-feature-settings: normal; font-optical-sizing: auto; font-
 variation-settings: normal; color: #e2301c; min-height: 18px;">&nbsp;</p><p
  style="margin: 0px 0px 0px 85px; font-style: normal; font-variant-caps: no
 rmal; font-stretch: normal; font-size: 12px; line-height: normal; font-fami
 ly: Chalkboard; font-size-adjust: none; font-kerning: auto; font-variant-al
 ternates: normal; font-variant-ligatures: normal; font-variant-numeric: nor
 mal; font-variant-east-asian: normal; font-variant-position: normal; font-v
 ariant-emoji: normal; font-feature-settings: normal; font-optical-sizing: a
 uto; font-variation-settings: normal; color: #333333; background-color: rgb
 a(255, 255, 255, 0.74);">Mantras sind Kraftquellen und Segenslieder für Mut
 ter und Kind. Das ist vor allem für die ersten Lebensjahre sehr wertvoll.&n
 bsp;<b>Komm mit deinem Kind oder deinem (auch noch ungeborenen) Baby und sp
 üre die heilsame Wirkung von Mantras. Singen macht glücklich und stärkt das
  Immunsystem.&nbsp;</b>Mit einem wunderschönen Schutzmantra und einer Tasse
  Tee sowie kleinen Snacks beschließen wir die Runde und hinterher bleibt no
 ch ein wenig Zeit für Austausch mit anderen Mamis.&nbsp;</p><p style="margi
 n: 0px 0px 0px 85px; font-style: normal; font-variant-caps: normal; font-st
 retch: normal; font-size: 14px; line-height: normal; font-family: Chalkboar
 d; font-size-adjust: none; font-kerning: auto; font-variant-alternates: nor
 mal; font-variant-ligatures: normal; font-variant-numeric: normal; font-var
 iant-east-asian: normal; font-variant-position: normal; font-variant-emoji:
  normal; font-feature-settings: normal; font-optical-sizing: auto; font-var
 iation-settings: normal; color: #e2301c; background-color: rgba(255, 255, 2
 55, 0.74);"><span style="color: #333333;">Ich bitte um verbindliche&nbsp;</
 span>Anmeldung unter:&nbsp;<a href="mailto:office@yogavibe.at"><span style=
 "color: #333333;">office@yogavibe.at</span></a>&nbsp; (Eva)<br />weitere In
 fos warum wir Mantras singen sollen&nbsp;<span style="font-family: 'Apple C
 olor Emoji';">😊</span>findest du auch auf meiner website:&nbsp;<a href="htt
 p://www.yogavibe.at"><span style="color: #333333;">www.yogavibe.at</span></
 a>&nbsp;unter Termine</p><p>&nbsp;</p><p>nächster Termin: 3.12.2024</p>
CONTACT:office@yogavibe.at
X-EXTRAINFO:[preis='2000'][anmeldung='true']
DTSTAMP:20260423T144252
DTSTART:20240605T120000
DTEND:20240605T130000
SEQUENCE:0
TRANSP:OPAQUE
END:VEVENT
END:VCALENDAR