BEGIN:VCALENDAR
VERSION:2.0
PRODID:-//jEvents 2.0 for Joomla//EN
CALSCALE:GREGORIAN
METHOD:PUBLISH
BEGIN:VEVENT
UID:3779a2f9509f5bf04ef5e4dde589683c
CATEGORIES:13. Bezirk
CREATED:20240605T094835
SUMMARY:Mantrasingen mit Baby
LOCATION:Geburtshaus\, Hietzinger Hptstr.50\, 1130 Wien
DESCRIPTION:<p style="margin: 0px 0px 0px 56.6px; text-align: center; text-indent: 28.3
 px; font-style: normal; font-variant-caps: normal; font-stretch: normal; fo
 nt-size: 38px; line-height: normal; font-family: Chalkboard; font-size-adju
 st: none; font-kerning: auto; font-variant-alternates: normal; font-variant
 -ligatures: normal; font-variant-numeric: normal; font-variant-east-asian: 
 normal; font-variant-position: normal; font-variant-emoji: normal; font-fea
 ture-settings: normal; font-optical-sizing: auto; font-variation-settings: 
 normal; color: #e2301c;">&nbsp;MANTRASINGEN mit Baby</p><p style="margin: 0
 px 0px 0px 85px; font-style: normal; font-variant-caps: normal; font-stretc
 h: normal; line-height: normal; font-family: Chalkboard; font-size-adjust: 
 none; font-kerning: auto; font-variant-alternates: normal; font-variant-lig
 atures: normal; font-variant-numeric: normal; font-variant-east-asian: norm
 al; font-variant-position: normal; font-variant-emoji: normal; font-feature
 -settings: normal; font-optical-sizing: auto; font-variation-settings: norm
 al; color: #000000;">beim gemeinsamen MEDITATIVEN und heilsamen Mantrasinge
 n kannst du Verspannungen lösen und Stress abbauen, abschalten, zur Ruhe ko
 mmen, Lebensfreude und Kraft tanken.</p><p style="margin: 0px 0px 0px 85px;
  text-align: center; font-style: normal; font-variant-caps: normal; font-st
 retch: normal; font-size: 14px; line-height: normal; font-family: Chalkboar
 d; font-size-adjust: none; font-kerning: auto; font-variant-alternates: nor
 mal; font-variant-ligatures: normal; font-variant-numeric: normal; font-var
 iant-east-asian: normal; font-variant-position: normal; font-variant-emoji:
  normal; font-feature-settings: normal; font-optical-sizing: auto; font-var
 iation-settings: normal; color: #e2301c; min-height: 18px;">&nbsp;</p><p st
 yle="margin: 0px 0px 0px 85px; text-align: center; font-style: normal; font
 -variant-caps: normal; font-stretch: normal; font-size: 28px; line-height: 
 normal; font-family: Chalkboard; font-size-adjust: none; font-kerning: auto
 ; font-variant-alternates: normal; font-variant-ligatures: normal; font-var
 iant-numeric: normal; font-variant-east-asian: normal; font-variant-positio
 n: normal; font-variant-emoji: normal; font-feature-settings: normal; font-
 optical-sizing: auto; font-variation-settings: normal; color: #e2301c;">MON
 TAG 11.11.2024&nbsp;</p><p style="margin: 0px 0px 0px 85px; text-align: cen
 ter; font-style: normal; font-variant-caps: normal; font-stretch: normal; f
 ont-size: 15px; line-height: normal; font-family: Chalkboard; font-size-adj
 ust: none; font-kerning: auto; font-variant-alternates: normal; font-varian
 t-ligatures: normal; font-variant-numeric: normal; font-variant-east-asian:
  normal; font-variant-position: normal; font-variant-emoji: normal; font-fe
 ature-settings: normal; font-optical-sizing: auto; font-variation-settings:
  normal; color: #e2301c;">im Geburtshaus, Hietzinger Hauptstrasse 50/1, 113
 0 Wien&nbsp;</p><p style="margin: 0px 0px 0px 85px; text-align: center; fon
 t-style: normal; font-variant-caps: normal; font-stretch: normal; font-size
 : 15px; line-height: normal; font-family: Chalkboard; font-size-adjust: non
 e; font-kerning: auto; font-variant-alternates: normal; font-variant-ligatu
 res: normal; font-variant-numeric: normal; font-variant-east-asian: normal;
  font-variant-position: normal; font-variant-emoji: normal; font-feature-se
 ttings: normal; font-optical-sizing: auto; font-variation-settings: normal;
  color: #e2301c;">von 14:00 - 15:00 UHR</p><p style="margin: 0px 0px 0px 85
 px; text-align: center; font-style: normal; font-variant-caps: normal; font
 -stretch: normal; font-size: 14px; line-height: normal; font-family: Chalkb
 oard; font-size-adjust: none; font-kerning: auto; font-variant-alternates: 
 normal; font-variant-ligatures: normal; font-variant-numeric: normal; font-
 variant-east-asian: normal; font-variant-position: normal; font-variant-emo
 ji: normal; font-feature-settings: normal; font-optical-sizing: auto; font-
 variation-settings: normal; color: #e2301c; min-height: 18px;">&nbsp;</p><p
  style="margin: 0px 0px 0px 85px; font-style: normal; font-variant-caps: no
 rmal; font-stretch: normal; font-size: 12px; line-height: normal; font-fami
 ly: Chalkboard; font-size-adjust: none; font-kerning: auto; font-variant-al
 ternates: normal; font-variant-ligatures: normal; font-variant-numeric: nor
 mal; font-variant-east-asian: normal; font-variant-position: normal; font-v
 ariant-emoji: normal; font-feature-settings: normal; font-optical-sizing: a
 uto; font-variation-settings: normal; color: #333333; background-color: rgb
 a(255, 255, 255, 0.74);">Mantras sind Kraftquellen und Segenslieder für Mut
 ter und Kind. Das ist vor allem für die ersten Lebensjahre sehr wertvoll.&n
 bsp;<b>Komm mit deinem Kind oder deinem (auch noch ungeborenen) Baby und sp
 üre die heilsame Wirkung von Mantras. Singen macht glücklich und stärkt das
  Immunsystem.&nbsp;</b>Mit einem wunderschönen Schutzmantra und einer Tasse
  Tee sowie kleinen Snacks beschließen wir die Runde und hinterher bleibt no
 ch ein wenig Zeit für Austausch mit anderen Mamis. Come as you are AND pay 
 as you can&nbsp; (also freie Spende ca.10,00-20,00 Euro)&nbsp;</p><p style=
 "margin: 0px 0px 0px 85px; font-style: normal; font-variant-caps: normal; f
 ont-stretch: normal; font-size: 14px; line-height: normal; font-family: Cha
 lkboard; font-size-adjust: none; font-kerning: auto; font-variant-alternate
 s: normal; font-variant-ligatures: normal; font-variant-numeric: normal; fo
 nt-variant-east-asian: normal; font-variant-position: normal; font-variant-
 emoji: normal; font-feature-settings: normal; font-optical-sizing: auto; fo
 nt-variation-settings: normal; color: #e2301c; background-color: rgba(255, 
 255, 255, 0.74);"><span style="color: #333333;">Ich bitte um verbindliche&n
 bsp;</span>Anmeldung unter:&nbsp;<a href="mailto:office@yogavibe.at"><span 
 style="color: #333333;">office@yogavibe.at</span></a>&nbsp; (Eva)<br />weit
 ere Infos warum wir Mantras singen sollen&nbsp;<span style="font-family: 'A
 pple Color Emoji';">😊</span>findest du auch auf meiner website:&nbsp;<a hre
 f="http://www.yogavibe.at"><span style="color: #333333;">www.yogavibe.at</s
 pan></a>&nbsp;unter Termine</p>
CONTACT:office@yogavibe.at
X-EXTRAINFO:[preis='2000'][anmeldung='true']
DTSTAMP:20260423T161209
DTSTART:20241111T130000
DTEND:20241111T140000
SEQUENCE:0
TRANSP:OPAQUE
END:VEVENT
END:VCALENDAR