BEGIN:VCALENDAR
VERSION:2.0
PRODID:-//jEvents 2.0 for Joomla//EN
CALSCALE:GREGORIAN
METHOD:PUBLISH
BEGIN:VEVENT
UID:0bb725b355391c1b476072bf8b3f780c
CATEGORIES:18. Bezirk
CREATED:20240610T094715
SUMMARY:Mit allen Sinnen am Montag
LOCATION:Spielringel\, Mollgasse 11-13
DESCRIPTION:Mit allen Sinnen am MontagSinnneserlebnis für Kinder ab dem Krabbelalter bi
 s 3 JahrenDie Kinder können nach Herzenslust mit verschiedenen Materialien 
 (wie zum Beispiel Reis, Wasser, selbstgemachten Fingerfarben und Schleim) m
 atschen, gatschen, schütten, spielen und experimentieren. Dabei werden ihre
  sensomotorischen Fähigkeiten und ihre Kreativität gefördert. Die Eltern ha
 ben die Möglichkeit, ihre Kinder bei den verschiedenen Spielstationen in di
 eser Entdeckungsreise zu begleiten und zu unterstützen.\nDein Baby wird sch
 mutzig werden. Am besten du lässt es in Windeln oder Unterhose spielen oder
  ziehst ihm Gewand an, dass auch schmutzig werden darf und vergiss nicht ei
 n Handtuch und Wechselgewand mitzunehmen!\nMit: Claudia (https://spielringe
 l.at/angebote/das-team/claudia)\nKurstag:  Montag 10:00-11:00\nTermine:  01
 .07./ 08.07./ 05.08./ 19.08.\nKosten:  €20,- pro Kind mit Begleitperson für
  einen Termin\n \n \n \n
X-ALT-DESC;FMTTYPE=text/html:<header class="frame-header"><h2 class="element-header">Mit allen Sinnen am
  Montag</h2><h4>Sinnneserlebnis für Kinder ab dem Krabbelalter bis 3 Jahren
 </h4><p>Die Kinder können nach Herzenslust mit verschiedenen Materialien (w
 ie zum Beispiel Reis, Wasser, selbstgemachten Fingerfarben und Schleim) mat
 schen, gatschen, schütten, spielen und experimentieren. Dabei werden ihre s
 ensomotorischen Fähigkeiten und ihre Kreativität gefördert. Die Eltern habe
 n die Möglichkeit, ihre Kinder bei den verschiedenen Spielstationen in dies
 er Entdeckungsreise zu begleiten und zu unterstützen.</p><p>Dein Baby wird 
 schmutzig werden. Am besten du lässt es in Windeln oder Unterhose spielen o
 der ziehst ihm Gewand an, dass auch schmutzig werden darf und vergiss nicht
  ein Handtuch und Wechselgewand mitzunehmen!</p><p><span class="text-primar
 y font-weight-bold">Mit: </span><a href="https://spielringel.at/angebote/da
 s-team/claudia">Claudia</a></p><p><span class="text-primary font-weight-bol
 d">Kurstag: </span> Montag 10:00-11:00</p><p><span class="text-primary font
 -weight-bold">Termine: </span> 01.07./ 08.07./ 05.08./ 19.08.</p><p><span c
 lass="text-primary font-weight-bold">Kosten: </span> €20,- pro Kind mit Beg
 leitperson für einen Termin</p><p>&nbsp;</p><p>&nbsp;</p></header><p>&nbsp;
 </p>
CONTACT:www.spielringel.at
X-EXTRAINFO:[preis='2000'][anmeldung='true']
DTSTAMP:20260423T162736
DTSTART:20240701T080000
DTEND:20240701T090000
SEQUENCE:0
TRANSP:OPAQUE
END:VEVENT
END:VCALENDAR