BEGIN:VCALENDAR
VERSION:2.0
PRODID:-//jEvents 2.0 for Joomla//EN
CALSCALE:GREGORIAN
METHOD:PUBLISH
BEGIN:VEVENT
UID:eaa1460bf002a6ef1d82e5ef77344b76
CATEGORIES:18. Bezirk
CREATED:20240610T095049
SUMMARY:Mit allen Sinnen am Montag
LOCATION:Spielringel\, Mollgasse 11-13
DESCRIPTION:Mit allen Sinnen am MontagSinnneserlebnis für Kinder ab dem Krabbelalter bi
 s 3 Jahren Mit: Claudia (https://spielringel.at/angebote/das-team/claudia)\
 nKurstag:  Montag 10:00-11:00\nTermine:  01.07./ 08.07./ 05.08./ 19.08.\nKo
 sten:  €20,- pro Kind mit Begleitperson für einen Termin\nDie Kinder können
  nach Herzenslust mit verschiedenen Materialien (wie zum Beispiel Reis, Was
 ser, selbstgemachten Fingerfarben und Schleim) matschen, gatschen, schütten
 , spielen und experimentieren. Dabei werden ihre sensomotorischen Fähigkeit
 en und ihre Kreativität gefördert. Die Eltern haben die Möglichkeit, ihre K
 inder bei den verschiedenen Spielstationen in dieser Entdeckungsreise zu be
 gleiten und zu unterstützen.\nDein Baby wird schmutzig werden. Am besten du
  lässt es in Windeln oder Unterhose spielen oder ziehst ihm Gewand an, dass
  auch schmutzig werden darf und vergiss nicht ein Handtuch und Wechselgewan
 d mitzunehmen!\n\n\n\n \n
X-ALT-DESC;FMTTYPE=text/html:<header class="frame-header"><h2 class="element-header">Mit allen Sinnen am
  Montag</h2><h4>Sinnneserlebnis für Kinder ab dem Krabbelalter bis 3 Jahren
 </h4></header><div class="textpic-item textpic-gallery"><div class="gallery
 -row"><div class="gallery-item gallery-item-size-1">&nbsp;</div></div></div
 ><p><span class="text-primary font-weight-bold">Mit: </span><a href="https:
 //spielringel.at/angebote/das-team/claudia">Claudia</a></p><p><span class="
 text-primary font-weight-bold">Kurstag: </span> Montag 10:00-11:00</p><p><s
 pan class="text-primary font-weight-bold">Termine: </span> 01.07./ 08.07./ 
 05.08./ 19.08.</p><p><span class="text-primary font-weight-bold">Kosten: </
 span> €20,- pro Kind mit Begleitperson für einen Termin</p><p>Die Kinder kö
 nnen nach Herzenslust mit verschiedenen Materialien (wie zum Beispiel Reis,
  Wasser, selbstgemachten Fingerfarben und Schleim) matschen, gatschen, schü
 tten, spielen und experimentieren. Dabei werden ihre sensomotorischen Fähig
 keiten und ihre Kreativität gefördert. Die Eltern haben die Möglichkeit, ih
 re Kinder bei den verschiedenen Spielstationen in dieser Entdeckungsreise z
 u begleiten und zu unterstützen.</p><p>Dein Baby wird schmutzig werden. Am 
 besten du lässt es in Windeln oder Unterhose spielen oder ziehst ihm Gewand
  an, dass auch schmutzig werden darf und vergiss nicht ein Handtuch und Wec
 hselgewand mitzunehmen!</p><p><br /><br /></p><p>&nbsp;</p>
CONTACT:www.spielringel.at
X-EXTRAINFO:[preis='2000'][anmeldung='true']
DTSTAMP:20260423T195100
DTSTART:20240819T080000
DTEND:20240819T090000
SEQUENCE:0
TRANSP:OPAQUE
END:VEVENT
END:VCALENDAR