BEGIN:VCALENDAR
VERSION:2.0
PRODID:-//jEvents 2.0 for Joomla//EN
CALSCALE:GREGORIAN
METHOD:PUBLISH
BEGIN:VEVENT
UID:1218846f481f2953aa3aa3ab64e2488a
CATEGORIES:18. Bezirk
CREATED:20240610T095210
SUMMARY:Spiel & Spaß im Sommer
LOCATION:Spielringel\, Mollgasse 11-13
DESCRIPTION:<div class="frame frame-default frame-type-textpic frame-layout-0 frame-bac
 kground-none frame-no-backgroundimage frame-space-before-none frame-space-a
 fter-none"><header class="frame-header"><h2 class="element-header">Spiel &a
 mp; Spaß im Sommer</h2><h4>für Babys und Kleinkinder 8 Monate - 2 Jahre</h4
 ></header><div class="frame-container"><div class="frame-inner"><div class=
 "textpic textpic-right"><div class="textpic-item textpic-gallery"><div clas
 s="gallery-row"><div class="gallery-item gallery-item-size-1">&nbsp;</div><
 /div></div><div class="textpic-item textpic-text"><p>Dienstag 9:30-10:30</p
 ><span class="text-primary font-weight-bold">Kosten: </span> €18,- (für ein
 e Einheit)<p>Im Sommer gibt es Einzeleinheiten von unserer Spiel &amp; Spaß
  Gruppe in der Mollgasse zu buchen.</p><p>Das freie Spiel steht im Vordergr
 und. Nebenbei werden motorische Fähigkeiten geschult, alle Sinne gefördert 
 und erste soziale Kontakte zu Gleichaltrigen gemacht.</p><p>Auch die "Große
 n" können Erfahrungen austauschen und neue Kontakte knüpfen.</p><p><strong>
 Termine:</strong></p><p><strong>Dienstag 02.07. 09:30-10:30</strong></p><p>
 <strong>Dienstag 09.07. 09:30-10:30</strong></p><p><strong>Dienstag 06.08. 
 09:30-10:30</strong></p><p><strong>Dienstag 20.08. 09:30-10:30</strong></p>
 <p>&nbsp;</p><p><strong>Bitte gebt bei der Anmeldung an, an welchen Termin(
 en) ihr kommen möchtet!</strong></p></div></div></div></div></div><div id="
 c1152" class="frame frame-default frame-type-form_formframework frame-layou
 t-0 frame-background-none frame-no-backgroundimage frame-space-before-none 
 frame-space-after-none"><div class="frame-container"><div class="frame-inne
 r"><div class="form-container form-identifier-anmeldeformular-1152"><form e
 nctype="multipart/form-data" method="post" novalidate="novalidate" id="anme
 ldeformular-1152"><div>&nbsp;</div><input autocomplete="97xEpn1" name="tx_f
 orm_formframework[anmeldeformular-1152][97xEpn1]" type="text" id="anmeldefo
 rmular-1152-97xEpn1" style="position: absolute; margin: 0 0 0 -999em;" tabi
 ndex="-1" aria-hidden="true" /><div class="form-actions"><nav class="form-n
 avigation"><div class="btn-toolbar" role="toolbar"><div class="btn-group" r
 ole="group"><span class="btn-group next"></span></div></div></nav></div></f
 orm></div></div></div></div><p>&nbsp;</p>
CONTACT:www.spielringel.at
X-EXTRAINFO:[preis='1800'][anmeldung='true']
DTSTAMP:20260423T161102
DTSTART:20240702T073000
DTEND:20240702T083000
SEQUENCE:0
TRANSP:OPAQUE
END:VEVENT
END:VCALENDAR