BEGIN:VCALENDAR
VERSION:2.0
PRODID:-//jEvents 2.0 for Joomla//EN
CALSCALE:GREGORIAN
METHOD:PUBLISH
BEGIN:VEVENT
UID:af931fe190c4c37e2aa70f6ff9edb70a
CATEGORIES:18. Bezirk
CREATED:20240610T095423
SUMMARY:Spiel & Spaß im Sommer
LOCATION:Spielringel\, Mollgasse 11-13
DESCRIPTION:Spiel &amp; Spaß im Sommerfür Babys und Kleinkinder 8 Monate - 2 Jahre Dien
 stag 9:30-10:30\nKosten:  €18,- (für eine Einheit)Im Sommer gibt es Einzele
 inheiten von unserer Spiel &amp; Spaß Gruppe in der Mollgasse zu buchen.\nD
 as freie Spiel steht im Vordergrund. Nebenbei werden motorische Fähigkeiten
  geschult, alle Sinne gefördert und erste soziale Kontakte zu Gleichaltrige
 n gemacht.\nAuch die "Großen" können Erfahrungen austauschen und neue Konta
 kte knüpfen.\nTermine:\nDienstag 02.07. 09:30-10:30\nDienstag 09.07. 09:30-
 10:30\nDienstag 06.08. 09:30-10:30\nDienstag 20.08. 09:30-10:30\n \nBitte g
 ebt bei der Anmeldung an, an welchen Termin(en) ihr kommen möchtet!\n \n
X-ALT-DESC;FMTTYPE=text/html:<div class="frame frame-default frame-type-textpic frame-layout-0 frame-bac
 kground-none frame-no-backgroundimage frame-space-before-none frame-space-a
 fter-none"><header class="frame-header"><h2 class="element-header">Spiel &a
 mp; Spaß im Sommer</h2><h4>für Babys und Kleinkinder 8 Monate - 2 Jahre</h4
 ></header><div class="frame-container"><div class="frame-inner"><div class=
 "textpic textpic-right"><div class="textpic-item textpic-gallery"><div clas
 s="gallery-row"><div class="gallery-item gallery-item-size-1">&nbsp;</div><
 /div></div><div class="textpic-item textpic-text"><p>Dienstag 9:30-10:30</p
 ><span class="text-primary font-weight-bold">Kosten: </span> €18,- (für ein
 e Einheit)<p>Im Sommer gibt es Einzeleinheiten von unserer Spiel &amp; Spaß
  Gruppe in der Mollgasse zu buchen.</p><p>Das freie Spiel steht im Vordergr
 und. Nebenbei werden motorische Fähigkeiten geschult, alle Sinne gefördert 
 und erste soziale Kontakte zu Gleichaltrigen gemacht.</p><p>Auch die "Große
 n" können Erfahrungen austauschen und neue Kontakte knüpfen.</p><p><strong>
 Termine:</strong></p><p><strong>Dienstag 02.07. 09:30-10:30</strong></p><p>
 <strong>Dienstag 09.07. 09:30-10:30</strong></p><p><strong>Dienstag 06.08. 
 09:30-10:30</strong></p><p><strong>Dienstag 20.08. 09:30-10:30</strong></p>
 <p>&nbsp;</p><p><strong>Bitte gebt bei der Anmeldung an, an welchen Termin(
 en) ihr kommen möchtet!</strong></p></div></div></div></div></div><p>&nbsp;
 </p>
CONTACT:www.spielringel.at
X-EXTRAINFO:[preis='1800'][anmeldung='true']
DTSTAMP:20260423T144245
DTSTART:20240806T073000
DTEND:20240806T083000
SEQUENCE:0
TRANSP:OPAQUE
END:VEVENT
END:VCALENDAR