BEGIN:VCALENDAR
VERSION:2.0
PRODID:-//jEvents 2.0 for Joomla//EN
CALSCALE:GREGORIAN
METHOD:PUBLISH
BEGIN:VEVENT
UID:edcbc32217f8b1f23d17af3e557d737f
CATEGORIES:18. Bezirk
CREATED:20240610T100339
SUMMARY:Spiel mit Farben
LOCATION:Spielringel\, Mollgasse 11-13
DESCRIPTION:Spiel mit FarbenSinnesspiel mit Farben für Kinder ab 1 bis 2,5 JahrenDienst
 ag 11:00-12:00\nKosten:  €20,- (eine Einheit)Im Sommer gibt es Kennenlernte
 rmine von unserer Farbenspielerei - Spiel mit Farben.\nJedes mal dürfen sic
 h die Kleinen auf eine andere Art und Weise mit Farben austoben!\nAuf jeden
  Fall wird es jedesmal sehr bunt!\nBitte Gewand, das auch schmutzig werden 
 darf, anziehen und Wechselgewand mitnehmen!\n \nDienstag 09.07. 11:00-12:00
 \nDienstag 06.08. 11:00-12:00\nDienstag 20.08. 11:00-12:00\n \nBitte gebt b
 ei der Anmeldung an, wann ihr kommen möchtet!\n  \n \n
X-ALT-DESC;FMTTYPE=text/html:<header class="frame-header"><h2 class="element-header">Spiel mit Farben</h
 2><h4>Sinnesspiel mit Farben für Kinder ab 1 bis 2,5 Jahren</h4><div class=
 "textpic-item textpic-text"><p>Dienstag 11:00-12:00</p><span class="text-pr
 imary font-weight-bold">Kosten: </span> €20,- (eine Einheit)<p>Im Sommer gi
 bt es Kennenlerntermine von unserer Farbenspielerei - Spiel mit Farben.</p>
 <p>Jedes mal dürfen sich die Kleinen auf eine andere Art und Weise mit Farb
 en austoben!</p><p>Auf jeden Fall wird es jedesmal sehr bunt!</p><p>Bitte G
 ewand, das auch schmutzig werden darf, anziehen und Wechselgewand mitnehmen
 !</p><p>&nbsp;</p><p><strong>Dienstag 09.07. 11:00-12:00</strong></p><p><st
 rong>Dienstag 06.08. 11:00-12:00</strong></p><p><strong>Dienstag 20.08. 11:
 00-12:00</strong></p><p>&nbsp;</p><p><strong>Bitte gebt bei der Anmeldung a
 n, wann ihr kommen möchtet!</strong></p></div><div id="c1150" class="frame 
 frame-default frame-type-form_formframework frame-layout-0 frame-background
 -none frame-no-backgroundimage frame-space-before-none frame-space-after-no
 ne"><div class="frame-container"><div class="frame-inner"><div class="form-
 container form-identifier-anmeldeformular-1150"><form enctype="multipart/fo
 rm-data" method="post" novalidate="novalidate" id="anmeldeformular-1150"><d
 iv>&nbsp;</div><input autocomplete="u4pOl" name="tx_form_formframework[anme
 ldeformular-1150][u4pOl]" type="text" id="anmeldeformular-1150-u4pOl" style
 ="position: absolute; margin: 0 0 0 -999em;" tabindex="-1" aria-hidden="tru
 e" /><div class="form-actions"><nav class="form-navigation"><div class="btn
 -toolbar" role="toolbar"><div class="btn-group" role="group"><span class="b
 tn-group next"></span></div></div></nav></div></form></div></div></div></di
 v><p>&nbsp;</p></header><p>&nbsp;</p>
CONTACT:www.spielringel.at
X-EXTRAINFO:[preis='2000'][anmeldung='true']
DTSTAMP:20260423T152003
DTSTART:20240709T090000
DTEND:20240709T100000
SEQUENCE:0
TRANSP:OPAQUE
END:VEVENT
END:VCALENDAR