BEGIN:VCALENDAR
VERSION:2.0
PRODID:-//jEvents 2.0 for Joomla//EN
CALSCALE:GREGORIAN
METHOD:PUBLISH
BEGIN:VEVENT
UID:c01b4a52fedddc46ff1011b5ed983ef6
CATEGORIES:18. Bezirk
CREATED:20240610T100554
SUMMARY:Dienstag 11:00-12:00  Mit: Claudia  Kurstag: Dienstag 11:00-12:00  Termine: 09.07./ 06.08./ 20.08.  Kosten: €20,- (eine Einheit)  Im Sommer gibt es Kennenlerntermine von unserer Farbenspielerei - Spiel mit Farben.  Jedes mal dürfen sich die Kleinen auf ei
LOCATION:Spielringel\, Mollgasse 11-13
DESCRIPTION:Spiel mit FarbenSinnesspiel mit Farben für Kinder ab 1 bis 2,5 JahrenDienst
 ag 11:00-12:00\nKosten:  €20,- (eine Einheit)Im Sommer gibt es Kennenlernte
 rmine von unserer Farbenspielerei - Spiel mit Farben.\nJedes mal dürfen sic
 h die Kleinen auf eine andere Art und Weise mit Farben austoben!\nAuf jeden
  Fall wird es jedesmal sehr bunt!\nBitte Gewand, das auch schmutzig werden 
 darf, anziehen und Wechselgewand mitnehmen!\n \nDienstag 09.07. 11:00-12:00
 \nDienstag 06.08. 11:00-12:00\nDienstag 20.08. 11:00-12:00\n \nBitte gebt b
 ei der Anmeldung an, wann ihr kommen möchtet!\n \n \n
X-ALT-DESC;FMTTYPE=text/html:<header class="frame-header"><h2 class="element-header">Spiel mit Farben</h
 2><h4>Sinnesspiel mit Farben für Kinder ab 1 bis 2,5 Jahren</h4><div class=
 "textpic-item textpic-text"><p>Dienstag 11:00-12:00</p><span class="text-pr
 imary font-weight-bold">Kosten: </span> €20,- (eine Einheit)<p>Im Sommer gi
 bt es Kennenlerntermine von unserer Farbenspielerei - Spiel mit Farben.</p>
 <p>Jedes mal dürfen sich die Kleinen auf eine andere Art und Weise mit Farb
 en austoben!</p><p>Auf jeden Fall wird es jedesmal sehr bunt!</p><p>Bitte G
 ewand, das auch schmutzig werden darf, anziehen und Wechselgewand mitnehmen
 !</p><p>&nbsp;</p><p><strong>Dienstag 09.07. 11:00-12:00</strong></p><p><st
 rong>Dienstag 06.08. 11:00-12:00</strong></p><p><strong>Dienstag 20.08. 11:
 00-12:00</strong></p><p>&nbsp;</p><p><strong>Bitte gebt bei der Anmeldung a
 n, wann ihr kommen möchtet!</strong></p></div><p>&nbsp;</p></header><p>&nbs
 p;</p>
CONTACT:www.spielringel.at
X-EXTRAINFO:[preis='2000'][anmeldung='true']
DTSTAMP:20260423T142705
DTSTART:20240820T090000
DTEND:20240820T100000
SEQUENCE:0
TRANSP:OPAQUE
END:VEVENT
END:VCALENDAR