BEGIN:VCALENDAR
VERSION:2.0
PRODID:-//jEvents 2.0 for Joomla//EN
CALSCALE:GREGORIAN
METHOD:PUBLISH
BEGIN:VEVENT
UID:83c6b2dffee87baaad45a28b23828be3
CATEGORIES:18. Bezirk
CREATED:20240610T100834
SUMMARY:Babyklangwelt zum Kennenlernen
LOCATION:Spielringel\, Mollgasse 11-13
DESCRIPTION:Babyklangwelt zum Kennenlernenfür Babys (3-10 Monate) mit Begleitung Dienst
 ag 13:00-13:45\nMit: Susanne (https://spielringel.at/angebote/das-team/susa
 nne)\nEinzeltermin am 20.08.2024\nKosten:  €20,- (Einzeltermin)\nBabys lieb
 en Klänge, Geräusche, Musik und Gesang. Gemeinsam schaffen wir akustische u
 nd musikalische Erlebniswelten, in die sich die Babys nach Möglichkeit einb
 ringen können und erweitern dabei auch Kompetenz und Repertoire das Kind im
  Alltag spielerisch zu fördern.\nAn diesem Einzeltermin kannst du dir anseh
 en, wie eine Einheit der Babyklangwelt ablaufen kann.\n \n \n
X-ALT-DESC;FMTTYPE=text/html:<h2 class="element-header">Babyklangwelt zum Kennenlernen</h2><h4>für Babys
  (3-10 Monate) mit Begleitung</h4><div class="textpic-item textpic-gallery"
 ><div class="gallery-row"><div class="gallery-item gallery-item-size-1">&nb
 sp;</div></div></div><p>Dienstag 13:00-13:45</p><p><span class="text-primar
 y font-weight-bold">Mit: </span><a href="https://spielringel.at/angebote/da
 s-team/susanne">Susanne</a></p><p>Einzeltermin am 20.08.2024</p><p><span cl
 ass="text-primary font-weight-bold">Kosten: </span> €20,- (Einzeltermin)</p
 ><p>Babys lieben Klänge, Geräusche, Musik und Gesang. Gemeinsam schaffen wi
 r akustische und musikalische Erlebniswelten, in die sich die Babys nach Mö
 glichkeit einbringen können und erweitern dabei auch Kompetenz und Repertoi
 re das Kind im Alltag spielerisch zu fördern.</p><p>An diesem Einzeltermin 
 kannst du dir ansehen, wie eine Einheit der Babyklangwelt ablaufen kann.</p
 ><p>&nbsp;</p><p>&nbsp;</p>
CONTACT:www.spielringel.at
X-EXTRAINFO:[preis='2000'][anmeldung='true']
DTSTAMP:20260423T144246
DTSTART:20240820T110000
DTEND:20240820T114500
SEQUENCE:0
TRANSP:OPAQUE
END:VEVENT
END:VCALENDAR