BEGIN:VCALENDAR
VERSION:2.0
PRODID:-//jEvents 2.0 for Joomla//EN
CALSCALE:GREGORIAN
METHOD:PUBLISH
BEGIN:VEVENT
UID:e264fa0c5baf595c6a9866eb23236e03
CATEGORIES:18. Bezirk
CREATED:20240610T121009
SUMMARY:Sinnesspielgruppe
LOCATION:Spielringel\, Mollgasse 11-13
DESCRIPTION:Sinnesspielgruppe für Kleinstkinder am Mittwoch von ca. 10 Monaten bis 2 Ja
 hre Start:  12.06.2024\nMit: Claudia (https://spielringel.at/angebote/das-t
 eam/claudia)\nKurstag:  Mittwoch 09:30-10:30\nTermine:  12.06., 19.06., 26.
 06., 03.07., 10.07.\nKosten:  €90,- (5-Wochen Kurs)\nDer Mensch ist eine So
 nne, seine Sinne sind seine Planeten.\n Novalis\nIn unserer Sinnesspielgrup
 pe entdecken die Kinder spielend viel Neues und lernen dabei auch noch neue
  Freunde kennen. Die Sinne der Kinder werden mit Hilfe verschiedener Materi
 alien spielerisch angeregt, es wird experimentiert und auch gebastelt. Acht
 samkeit, Wahrnehmungsförderung und Sinnesschulung stehen im Vordergrund! .\
 nGenießt die Zeit beim gemeinsamen Spielen und Entdecken mit euren Kindern!
 \n \n
X-ALT-DESC;FMTTYPE=text/html:<div class="frame frame-default frame-type-textpic frame-layout-0 frame-bac
 kground-none frame-no-backgroundimage frame-space-before-none frame-space-a
 fter-none"><header class="frame-header"><h2 class="element-header">Sinnessp
 ielgruppe für Kleinstkinder am Mittwoch </h2><h4>von ca. 10 Monaten bis 2 J
 ahre</h4></header><div class="frame-container"><div class="frame-inner"><di
 v class="textpic textpic-right"><div class="textpic-item textpic-gallery"><
 div class="gallery-row"><div class="gallery-item gallery-item-size-1">&nbsp
 ;</div></div></div><div class="textpic-item textpic-text"><p><span class="t
 ext-primary font-weight-bold">Start: </span> 12.06.2024</p><p><span class="
 text-primary font-weight-bold">Mit: </span><a href="https://spielringel.at/
 angebote/das-team/claudia">Claudia</a></p><p><span class="text-primary font
 -weight-bold">Kurstag: </span> Mittwoch 09:30-10:30</p><p><span class="text
 -primary font-weight-bold">Termine: </span> 12.06., 19.06., 26.06., 03.07.,
  10.07.</p><p><span class="text-primary font-weight-bold">Kosten: </span> €
 90,- (5-Wochen Kurs)</p><p>Der Mensch ist eine Sonne, seine Sinne sind sein
 e Planeten.<br /> Novalis</p><p>In unserer Sinnesspielgruppe entdecken die 
 Kinder spielend viel Neues und lernen dabei auch noch neue Freunde kennen. 
 Die Sinne der Kinder werden mit Hilfe verschiedener Materialien spielerisch
  angeregt, es wird experimentiert und auch gebastelt. Achtsamkeit, Wahrnehm
 ungsförderung und Sinnesschulung stehen im Vordergrund! .</p><p>Genießt die
  Zeit beim gemeinsamen Spielen und Entdecken mit euren Kindern!</p></div></
 div></div></div></div><p>&nbsp;</p>
CONTACT:www.spielringel.at
X-EXTRAINFO:[preis='9000'][anmeldung='true']
DTSTAMP:20260423T154517
DTSTART:20240612T073000
DTEND:20240612T083000
SEQUENCE:0
TRANSP:OPAQUE
END:VEVENT
END:VCALENDAR