BEGIN:VCALENDAR
VERSION:2.0
PRODID:-//jEvents 2.0 for Joomla//EN
CALSCALE:GREGORIAN
METHOD:PUBLISH
BEGIN:VEVENT
UID:c229ef5a07daa4630ceb49bbeb5eb034
CATEGORIES:18. Bezirk
CREATED:20240610T121233
SUMMARY:Musik mit Susanne für Babys
LOCATION:Spielringel\, Mollgasse 11-13
DESCRIPTION:Musik mit Susanne für Babys am Dienstagfür Babys (6-14 Monate)Mit: Susanne 
 (https://spielringel.at/angebote/das-team/susanne)\nKurstag:  Dienstag 14:0
 0-14:45\nTermine:  Einzeltermin am 20.08.2024\nKosten:  €20,- (Einzeltermin
 )\n„Musikalität ist vor allem die Fähigkeit von Musik berührt zu werden."\n
 Es wird dem Alter und der Entwicklung der Babys entsprechend, gespielt, ges
 ungen, getanzt und musiziert. Musik fördert die Entwicklung von Babys: Sie 
 ist gut für die Bewegungskoordination, die Sprachentwicklung, den Gleichgew
 ichtssinn und die Bindung zur Bezugsperson. Das beste daran ist, dass es ei
 nfach Freude macht!\nAn diesem Einzeltermin kannst du dir ansehen, wie eine
  Einheit der Spielgruppe mit Musik ablaufen kann. \n \n
X-ALT-DESC;FMTTYPE=text/html:<header class="frame-header"><h2 class="element-header">Musik mit Susanne f
 ür Babys am Dienstag</h2><h4>für Babys (6-14 Monate)</h4><p><span class="te
 xt-primary font-weight-bold">Mit: </span><a href="https://spielringel.at/an
 gebote/das-team/susanne">Susanne</a></p><p><span class="text-primary font-w
 eight-bold">Kurstag: </span> Dienstag 14:00-14:45</p><p><span class="text-p
 rimary font-weight-bold">Termine: </span> Einzeltermin am 20.08.2024</p><p>
 <span class="text-primary font-weight-bold">Kosten: </span> €20,- (Einzelte
 rmin)</p><p>„Musikalität ist vor allem die Fähigkeit von Musik berührt zu w
 erden."</p><p>Es wird dem Alter und der Entwicklung der Babys entsprechend,
  gespielt, gesungen, getanzt und musiziert. Musik fördert die Entwicklung v
 on Babys: Sie ist gut für die Bewegungskoordination, die Sprachentwicklung,
  den Gleichgewichtssinn und die Bindung zur Bezugsperson. Das beste daran i
 st, dass es einfach Freude macht!</p>An diesem Einzeltermin kannst du dir a
 nsehen, wie eine Einheit der Spielgruppe mit Musik ablaufen kann.<p>&nbsp;<
 /p></header><p>&nbsp;</p>
CONTACT:www.spielringel.at
X-EXTRAINFO:[preis='2000'][anmeldung='true']
DTSTAMP:20260423T144249
DTSTART:20240820T120000
DTEND:20240820T124500
SEQUENCE:0
TRANSP:OPAQUE
END:VEVENT
END:VCALENDAR