BEGIN:VCALENDAR
VERSION:2.0
PRODID:-//jEvents 2.0 for Joomla//EN
CALSCALE:GREGORIAN
METHOD:PUBLISH
BEGIN:VEVENT
UID:bd518cdc04b45eb8808133c36659ba06
CATEGORIES:18. Bezirk
CREATED:20240610T121425
SUMMARY:Musik mit Susanne für Kleinkinder
LOCATION:Spielringel\, Mollgasse 11-13
DESCRIPTION:Musik mit Susanne für Kleinkinder am Dienstag(12- 24 Monate)Mit: Susanne (h
 ttps://spielringel.at/angebote/das-team/susanne)\nKurstag:  Dienstag 15:00-
 15:45\nTermine:  Einzeltermin am 20.08.2024\nKosten:  €20,-\nDer Gruppenrau
 m wird zum Erlebnis- und Bewegungsraum. In gemütlicher, kindgerechter Umgeb
 ung können neue Bekanntschaften geschlossen werden.\nJede Stunde regen neue
  Spielimpulse zum Mitmachen an und geben Anreiz zur leichten Umsetzung zu H
 ause.\nDein Kind hat die Möglichkeit sich frei in einer Gruppe Gleichaltrig
 er zu bewegen und dich trotzdem immer als sicheren Hafen zur Einkehr bei si
 ch zu haben.\nAn diesem Einzeltermin kannst du dir ansehen, wie eine EInhei
 t der Spielgruppe mit Musik ablaufen kann.\n  \n \n
X-ALT-DESC;FMTTYPE=text/html:<header class="frame-header"><h2 class="element-header">Musik mit Susanne f
 ür Kleinkinder am Dienstag</h2><h4>(12- 24 Monate)</h4><p><span class="text
 -primary font-weight-bold">Mit: </span><a href="https://spielringel.at/ange
 bote/das-team/susanne">Susanne</a></p><p><span class="text-primary font-wei
 ght-bold">Kurstag: </span> Dienstag 15:00-15:45</p><p><span class="text-pri
 mary font-weight-bold">Termine: </span> Einzeltermin am 20.08.2024</p><p><s
 pan class="text-primary font-weight-bold">Kosten: </span> €20,-</p><p>Der G
 ruppenraum wird zum Erlebnis- und Bewegungsraum. In gemütlicher, kindgerech
 ter Umgebung können neue Bekanntschaften geschlossen werden.</p><p>Jede Stu
 nde regen neue Spielimpulse zum Mitmachen an und geben Anreiz zur leichten 
 Umsetzung zu Hause.</p><p>Dein Kind hat die Möglichkeit sich frei in einer 
 Gruppe Gleichaltriger zu bewegen und dich trotzdem immer als sicheren Hafen
  zur Einkehr bei sich zu haben.</p><p>An diesem Einzeltermin kannst du dir 
 ansehen, wie eine EInheit der Spielgruppe mit Musik ablaufen kann.</p><div 
 id="c870" class="frame frame-default frame-type-form_formframework frame-la
 yout-0 frame-background-none frame-no-backgroundimage frame-space-before-no
 ne frame-space-after-none"><div class="frame-container"><div class="frame-i
 nner"><div class="form-container form-identifier-anmeldeformular-870"><form
  enctype="multipart/form-data" method="post" novalidate="novalidate" id="an
 meldeformular-870"><div>&nbsp;</div><input autocomplete="jFD2GU0aI" name="t
 x_form_formframework[anmeldeformular-870][jFD2GU0aI]" type="text" id="anmel
 deformular-870-jFD2GU0aI" style="position: absolute; margin: 0 0 0 -999em;"
  tabindex="-1" aria-hidden="true" /><div class="form-actions"><nav class="f
 orm-navigation"><div class="btn-toolbar" role="toolbar"><div class="btn-gro
 up" role="group"><span class="btn-group next"></span></div></div></nav></di
 v></form></div></div></div></div><p>&nbsp;</p></header><p>&nbsp;</p>
CONTACT:www.spielringel.at
X-EXTRAINFO:[preis='2000'][anmeldung='true']
DTSTAMP:20260423T144246
DTSTART:20240820T130000
DTEND:20240820T134500
SEQUENCE:0
TRANSP:OPAQUE
END:VEVENT
END:VCALENDAR