BEGIN:VCALENDAR
VERSION:2.0
PRODID:-//jEvents 2.0 for Joomla//EN
CALSCALE:GREGORIAN
METHOD:PUBLISH
BEGIN:VEVENT
UID:847956fc42a5b0071cc116d2e45ccfc1
CATEGORIES:18. Bezirk
CREATED:20240610T123918
SUMMARY:Mit allen Sinnen am Donnerstag
LOCATION:Spielringel\, Mollgasse 11-13
DESCRIPTION:Mit allen Sinnen am DonnerstagSinnneserlebnis für Kinder ab dem Krabbelalte
 r bis 3 Jahren Donnerstag 10:00-11:00\nTermine:  11.07./ 08.08./ 22.08.\nKo
 sten:  €20,- pro Kind mit Begleitperson für einen Termin\nDie Kinder können
  nach Herzenslust mit verschiedenen Materialien (wie zum Beispiel Reis, Was
 ser, selbstgemachten Fingerfarben und Schleim) matschen, gatschen, schütten
 , spielen und experimentieren. Dabei werden ihre sensomotorischen Fähigkeit
 en und ihre Kreativität gefördert. Die Eltern haben die Möglichkeit, ihre K
 inder bei den verschiedenen Spielstationen in dieser Entdeckungsreise zu be
 gleiten und zu unterstützen.\nDein Baby wird schmutzig werden. Am besten du
  lässt es in Windeln oder Unterhose spielen oder ziehst ihm Gewand an, dass
  auch schmutzig werden darf und vergiss nicht ein Handtuch und Wechselgewan
 d mitzunehmen!\n\n Alle Termine sind einzeln buchbar. Bitte bei der Anmeldu
 ng angeben, wann ihr kommen möchtet!\nTermine:\nDonnerstag 11.07. 10:00-11:
 00\nDonnerstag 08.08. 10:00-11:00\nDonnerstag  22.08. 10:00-11:00\n \n
X-ALT-DESC;FMTTYPE=text/html:<header class="frame-header"><h2 class="element-header">Mit allen Sinnen am
  Donnerstag</h2><h4>Sinnneserlebnis für Kinder ab dem Krabbelalter bis 3 Ja
 hren</h4></header><div class="textpic-item textpic-gallery"><div class="gal
 lery-row"><div class="gallery-item gallery-item-size-1">&nbsp;</div></div><
 /div><p>Donnerstag 10:00-11:00</p><p><span class="text-primary font-weight-
 bold">Termine: </span> 11.07./ 08.08./ 22.08.</p><p><span class="text-prima
 ry font-weight-bold">Kosten: </span> €20,- pro Kind mit Begleitperson für e
 inen Termin</p><p>Die Kinder können nach Herzenslust mit verschiedenen Mate
 rialien (wie zum Beispiel Reis, Wasser, selbstgemachten Fingerfarben und Sc
 hleim) matschen, gatschen, schütten, spielen und experimentieren. Dabei wer
 den ihre sensomotorischen Fähigkeiten und ihre Kreativität gefördert. Die E
 ltern haben die Möglichkeit, ihre Kinder bei den verschiedenen Spielstation
 en in dieser Entdeckungsreise zu begleiten und zu unterstützen.</p><p>Dein 
 Baby wird schmutzig werden. Am besten du lässt es in Windeln oder Unterhose
  spielen oder ziehst ihm Gewand an, dass auch schmutzig werden darf und ver
 giss nicht ein Handtuch und Wechselgewand mitzunehmen!</p><p><br /> Alle Te
 rmine sind einzeln buchbar. Bitte bei der Anmeldung angeben, wann ihr komme
 n möchtet!</p><p><strong>Termine:</strong></p><p><strong>Donnerstag 11.07. 
 10:00-11:00</strong></p><p><strong>Donnerstag 08.08. 10:00-11:00</strong></
 p><p><strong>Donnerstag&nbsp; 22.08. 10:00-11:00</strong></p><p>&nbsp;</p>
CONTACT:www.spielringel.at
X-EXTRAINFO:[preis='2000'][anmeldung='true']
DTSTAMP:20260423T161830
DTSTART:20240711T080000
DTEND:20240711T090000
SEQUENCE:0
TRANSP:OPAQUE
END:VEVENT
END:VCALENDAR