BEGIN:VCALENDAR
VERSION:2.0
PRODID:-//jEvents 2.0 for Joomla//EN
CALSCALE:GREGORIAN
METHOD:PUBLISH
BEGIN:VEVENT
UID:8b0a4d135b99949e423ad53ce060adbd
CATEGORIES:19. Bezirk
CREATED:20240610T132957
SUMMARY:Musikgarten Baby zum Thema Sommer 
LOCATION:Raum Ida im Q19
DESCRIPTION:Musikgarten Baby zum Thema Sommer DienstagBabys 0-18 Monate Mit: Martina (h
 ttps://spielringel.at/angebote/das-team/martina-dorothea-sommersguter)\nKur
 stag:  Dienstag 09:30-10:15 im Raum Ida, Q19\nTermin:  02.07.\nKosten:  25 
 Euro pro Kind, Geschwisterkinder 15 Euro (wenn im selben Kurs) INKLUSIVE EI
 NEM KLEINEN GESCHENK AM ENDE DER STUNDE\nDie Hummel ist in die Sonnenblume 
 verliebt, die Blumen blühen auf der Wiese und Sonnenstrahlen kitzeln auf de
 r Nase!\nDer Sommer wird vertont, vertanzt und gesungen. \n \n
X-ALT-DESC;FMTTYPE=text/html:<header class="frame-header"><h2 class="element-header">Musikgarten Baby zu
 m Thema Sommer Dienstag</h2><h4>Babys 0-18 Monate</h4></header><div class="
 textpic-item textpic-gallery"><div class="gallery-row"><div class="gallery-
 item gallery-item-size-1">&nbsp;</div></div></div><p><span class="text-prim
 ary font-weight-bold">Mit: </span><a href="https://spielringel.at/angebote/
 das-team/martina-dorothea-sommersguter">Martina</a></p><p><span class="text
 -primary font-weight-bold">Kurstag: </span> Dienstag 09:30-10:15 im Raum Id
 a, Q19</p><p><span class="text-primary font-weight-bold">Termin: </span> 02
 .07.</p><p><span class="text-primary font-weight-bold">Kosten: </span> 25 E
 uro pro Kind, Geschwisterkinder 15 Euro (wenn im selben Kurs) INKLUSIVE EIN
 EM KLEINEN GESCHENK AM ENDE DER STUNDE</p><p>Die Hummel ist in die Sonnenbl
 ume verliebt, die Blumen blühen auf der Wiese und Sonnenstrahlen kitzeln au
 f der Nase!</p><p>Der Sommer wird vertont, vertanzt und gesungen. </p><p>&n
 bsp;</p>
CONTACT:www.spielringel.at
X-EXTRAINFO:[preis='2500'][anmeldung='false']
DTSTAMP:20260423T080751
DTSTART:20240702T073000
DTEND:20240702T081500
SEQUENCE:0
TRANSP:OPAQUE
END:VEVENT
END:VCALENDAR