BEGIN:VCALENDAR
VERSION:2.0
PRODID:-//jEvents 2.0 for Joomla//EN
CALSCALE:GREGORIAN
METHOD:PUBLISH
BEGIN:VEVENT
UID:01273dda83e93479c6a0933b5ccc8d7c
CATEGORIES:19. Bezirk
CREATED:20240610T133204
SUMMARY:Musikgarten 2 zum Thema Sommer 
LOCATION:Raum Ida im Q19
DESCRIPTION:Musikgarten 2 zum Thema Sommer 3-5 JahreMit: Martina (https://spielringel.a
 t/angebote/das-team/martina-dorothea-sommersguter)\nKurstag:  Dienstag 11:3
 0-12:15 im Raum Ida, Q19\nTermine:  02.07.\nKosten:  25 Euro pro Kind, Gesc
 hwisterkinder 15 Euro (wenn im selben Kurs) INKLUSIVE EINEM KLEINEN GESCHEN
 K AM ENDE DER STUNDE\nDie Hummel ist in die Sonnenblume verliebt, die Blume
 n blühen auf der Wiese und Sonnenstrahlen kitzeln auf der Nase!\nDer Sommer
  wird vertont, vertanzt und gesungen. \n \n \n
X-ALT-DESC;FMTTYPE=text/html:<header class="frame-header"><h2 class="element-header">Musikgarten 2 zum T
 hema Sommer </h2><h4>3-5 Jahre</h4><p><span class="text-primary font-weight
 -bold">Mit: </span><a href="https://spielringel.at/angebote/das-team/martin
 a-dorothea-sommersguter">Martina</a></p><p><span class="text-primary font-w
 eight-bold">Kurstag: </span> Dienstag 11:30-12:15 im Raum Ida, Q19</p><p><s
 pan class="text-primary font-weight-bold">Termine: </span> 02.07.</p><p><sp
 an class="text-primary font-weight-bold">Kosten: </span> 25 Euro pro Kind, 
 Geschwisterkinder 15 Euro (wenn im selben Kurs) INKLUSIVE EINEM KLEINEN GES
 CHENK AM ENDE DER STUNDE</p><p>Die Hummel ist in die Sonnenblume verliebt, 
 die Blumen blühen auf der Wiese und Sonnenstrahlen kitzeln auf der Nase!</p
 ><p>Der Sommer wird vertont, vertanzt und gesungen. </p><p>&nbsp;</p></head
 er><p>&nbsp;</p>
CONTACT:www.spielringel.at
X-EXTRAINFO:[preis='2500'][anmeldung='true']
DTSTAMP:20260423T082026
DTSTART:20240702T093000
DTEND:20240702T101500
SEQUENCE:0
TRANSP:OPAQUE
END:VEVENT
END:VCALENDAR