BEGIN:VCALENDAR
VERSION:2.0
PRODID:-//jEvents 2.0 for Joomla//EN
CALSCALE:GREGORIAN
METHOD:PUBLISH
BEGIN:VEVENT
UID:9b181e9375179c88821b92e4784f9236
CATEGORIES:19. Bezirk
CREATED:20240610T133311
SUMMARY:Musikgarten Baby zum Thema Sommer 
LOCATION:Raum Ida im Q19
DESCRIPTION:Musikgarten Baby zum Thema SommerBabys 0-18 Monate Mit: Martina (https://sp
 ielringel.at/angebote/das-team/martina-dorothea-sommersguter)\nKurstag:  Do
 nnerstag 09:30-10:15 im Raum Ida, Q19\nTermine:  04.07.\nKosten:  25 Euro p
 ro Kind, Geschwisterkinder 15 Euro (wenn im selben Kurs) INKLUSIVE EINEM KL
 EINEN GESCHENK AM ENDE DER STUNDE\nDie Hummel ist in die Sonnenblume verlie
 bt, die Blumen blühen auf der Wiese und Sonnenstrahlen kitzeln auf der Nase
 !\nDer Sommer wird vertont, vertanzt und gesungen.\n \n
X-ALT-DESC;FMTTYPE=text/html:<header class="frame-header"><h2 class="element-header">Musikgarten Baby zu
 m Thema Sommer</h2><h4>Babys 0-18 Monate</h4></header><div class="textpic-i
 tem textpic-gallery"><div class="gallery-row"><div class="gallery-item gall
 ery-item-size-1">&nbsp;</div></div></div><p><span class="text-primary font-
 weight-bold">Mit: </span><a href="https://spielringel.at/angebote/das-team/
 martina-dorothea-sommersguter">Martina</a></p><p><span class="text-primary 
 font-weight-bold">Kurstag: </span> Donnerstag 09:30-10:15 im Raum Ida, Q19<
 /p><p><span class="text-primary font-weight-bold">Termine: </span> 04.07.</
 p><p><span class="text-primary font-weight-bold">Kosten: </span> 25 Euro pr
 o Kind, Geschwisterkinder 15 Euro (wenn im selben Kurs) INKLUSIVE EINEM KLE
 INEN GESCHENK AM ENDE DER STUNDE</p><p>Die Hummel ist in die Sonnenblume ve
 rliebt, die Blumen blühen auf der Wiese und Sonnenstrahlen kitzeln auf der 
 Nase!</p><p>Der Sommer wird vertont, vertanzt und gesungen.</p><p>&nbsp;</p
 >
CONTACT:www.spielringel.at
X-EXTRAINFO:[preis='2500'][anmeldung='true']
DTSTAMP:20260423T094755
DTSTART:20240704T073000
DTEND:20240704T081500
SEQUENCE:0
TRANSP:OPAQUE
END:VEVENT
END:VCALENDAR