BEGIN:VCALENDAR
VERSION:2.0
PRODID:-//jEvents 2.0 for Joomla//EN
CALSCALE:GREGORIAN
METHOD:PUBLISH
BEGIN:VEVENT
UID:212a14090e7a7052acfb3812b1f33c84
CATEGORIES:19. Bezirk
CREATED:20240610T133616
SUMMARY:Musikgarten 2 zum Thema Sommer 
LOCATION:Raum Ida im Q19
DESCRIPTION:Musikgarten 2 zum Thema Sommer 3-5 JahreMit: Martina (https://spielringel.a
 t/angebote/das-team/martina-dorothea-sommersguter)\nKurstag:  Donnerstag 11
 :30-12:15 im Raum Ida, Q19\nTermine:  04.07.\nKosten:  25 Euro pro Kind, Ge
 schwisterkinder 15 Euro (wenn im selben Kurs) INKLUSIVE EINEM KLEINEN GESCH
 ENK AM ENDE DER STUNDE\nDie Hummel ist in die Sonnenblume verliebt, die Blu
 men blühen auf der Wiese und Sonnenstrahlen kitzeln auf der Nase!\nDer Somm
 er wird vertont, vertanzt und gesungen. \n \n \n
X-ALT-DESC;FMTTYPE=text/html:<header class="frame-header"><h2 class="element-header">Musikgarten 2 zum T
 hema Sommer </h2><h4>3-5 Jahre</h4><p><span class="text-primary font-weight
 -bold">Mit: </span><a href="https://spielringel.at/angebote/das-team/martin
 a-dorothea-sommersguter">Martina</a></p><p><span class="text-primary font-w
 eight-bold">Kurstag: </span> Donnerstag 11:30-12:15 im Raum Ida, Q19</p><p>
 <span class="text-primary font-weight-bold">Termine: </span> 04.07.</p><p><
 span class="text-primary font-weight-bold">Kosten: </span> 25 Euro pro Kind
 , Geschwisterkinder 15 Euro (wenn im selben Kurs) INKLUSIVE EINEM KLEINEN G
 ESCHENK AM ENDE DER STUNDE</p><p>Die Hummel ist in die Sonnenblume verliebt
 , die Blumen blühen auf der Wiese und Sonnenstrahlen kitzeln auf der Nase!<
 /p><p>Der Sommer wird vertont, vertanzt und gesungen. </p><p>&nbsp;</p></he
 ader><p>&nbsp;</p>
CONTACT:www.spielringel.at
X-EXTRAINFO:[preis='2500'][anmeldung='true']
DTSTAMP:20260423T161038
DTSTART:20240704T093000
DTEND:20240704T101500
SEQUENCE:0
TRANSP:OPAQUE
END:VEVENT
END:VCALENDAR