BEGIN:VCALENDAR
VERSION:2.0
PRODID:-//jEvents 2.0 for Joomla//EN
CALSCALE:GREGORIAN
METHOD:PUBLISH
BEGIN:VEVENT
UID:8f1b47af614c0c80cbf72bcb437e91b6
CATEGORIES:19. Bezirk
CREATED:20240617T150327
SUMMARY:Musikgarten Workshop Baby zum Thema Sommer 
LOCATION:Raum Ida im Q19
DESCRIPTION:Musikgarten Baby zum Thema Sommer Babys 0-18 Monate Mit: Martina (https://s
 pielringel.at/angebote/das-team/martina-dorothea-sommersguter)\nDonnerstag,
  04.07. 09:30-10:15 im Raum Ida, Q19\nKosten:  25 Euro pro Kind, Geschwiste
 rkinder 15 Euro (wenn im selben Kurs) INKLUSIVE EINEM KLEINEN GESCHENK AM E
 NDE DER STUNDE\nDie Hummel ist in die Sonnenblume verliebt, die Blumen blüh
 en auf der Wiese und Sonnenstrahlen kitzeln auf der Nase!\nDer Sommer wird 
 vertont, vertanzt und gesungen. \n \n
X-ALT-DESC;FMTTYPE=text/html:<header class="frame-header"><h2 class="element-header">Musikgarten Baby zu
 m Thema Sommer </h2><h4>Babys 0-18 Monate</h4></header><div class="textpic-
 item textpic-gallery"><div class="gallery-row"><div class="gallery-item gal
 lery-item-size-1">&nbsp;</div></div></div><p><span class="text-primary font
 -weight-bold">Mit: </span><a href="https://spielringel.at/angebote/das-team
 /martina-dorothea-sommersguter">Martina</a></p><p>Donnerstag, 04.07. 09:30-
 10:15 im Raum Ida, Q19</p><p><span class="text-primary font-weight-bold">Ko
 sten: </span> 25 Euro pro Kind, Geschwisterkinder 15 Euro (wenn im selben K
 urs) INKLUSIVE EINEM KLEINEN GESCHENK AM ENDE DER STUNDE</p><p>Die Hummel i
 st in die Sonnenblume verliebt, die Blumen blühen auf der Wiese und Sonnens
 trahlen kitzeln auf der Nase!</p><p>Der Sommer wird vertont, vertanzt und g
 esungen. </p><p>&nbsp;</p>
CONTACT:www.spielringel.at
X-EXTRAINFO:[preis='2500'][anmeldung='true']
DTSTAMP:20260424T104746
DTSTART:20240704T073000
DTEND:20240704T081500
SEQUENCE:0
TRANSP:OPAQUE
END:VEVENT
END:VCALENDAR