BEGIN:VCALENDAR
VERSION:2.0
PRODID:-//jEvents 2.0 for Joomla//EN
CALSCALE:GREGORIAN
METHOD:PUBLISH
BEGIN:VEVENT
UID:ccdedec10e0feb2b273f064ce38d25f9
CATEGORIES:19. Bezirk
CREATED:20240617T150541
SUMMARY:Musikgarten 1 zum Thema Sommer 
LOCATION:Raum Ida im Q19
DESCRIPTION:Musikgarten 1 zum Thema Sommer Donnerstag18 Monate - 4 Jahre Mit: Martina (
 https://spielringel.at/angebote/das-team/martina-dorothea-sommersguter)\nDo
 nnerstag, 04.07.10:30-11:15 im Raum Ida, Q19\nKosten:  25 Euro pro Kind, Ge
 schwisterkinder 15 Euro (wenn im selben Kurs) INKLUSIVE EINEM KLEINEN GESCH
 ENK AM ENDE DER STUNDE\nDie Hummel ist in die Sonnenblume verliebt, die Blu
 men blühen auf der Wiese und Sonnenstrahlen kitzeln auf der Nase!\nDer Somm
 er wird vertont, vertanzt und gesungen. \n \n
X-ALT-DESC;FMTTYPE=text/html:<header class="frame-header"><h2 class="element-header">Musikgarten 1 zum T
 hema Sommer Donnerstag</h2><h4>18 Monate - 4 Jahre</h4></header><div class=
 "textpic-item textpic-gallery"><div class="gallery-row"><div class="gallery
 -item gallery-item-size-1">&nbsp;</div></div></div><p><span class="text-pri
 mary font-weight-bold">Mit: </span><a href="https://spielringel.at/angebote
 /das-team/martina-dorothea-sommersguter">Martina</a></p><p>Donnerstag, 04.0
 7.10:30-11:15 im Raum Ida, Q19</p><p><span class="text-primary font-weight-
 bold">Kosten: </span> 25 Euro pro Kind, Geschwisterkinder 15 Euro (wenn im 
 selben Kurs) INKLUSIVE EINEM KLEINEN GESCHENK AM ENDE DER STUNDE</p><p>Die 
 Hummel ist in die Sonnenblume verliebt, die Blumen blühen auf der Wiese und
  Sonnenstrahlen kitzeln auf der Nase!</p><p>Der Sommer wird vertont, vertan
 zt und gesungen. </p><p>&nbsp;</p>
CONTACT:www.spielringel.at
X-EXTRAINFO:[preis='2500'][anmeldung='true']
DTSTAMP:20260423T111417
DTSTART:20240704T083000
DTEND:20240704T091500
SEQUENCE:0
TRANSP:OPAQUE
END:VEVENT
END:VCALENDAR