BEGIN:VCALENDAR
VERSION:2.0
PRODID:-//jEvents 2.0 for Joomla//EN
CALSCALE:GREGORIAN
METHOD:PUBLISH
BEGIN:VEVENT
UID:67fbc3383b85a8a143a9807655f4e072
CATEGORIES:6. Bezirk
CREATED:20240620T123358
SUMMARY:Graffiti für Kinder (ab 8 Jahren)
LOCATION:Esterhazypark
DESCRIPTION:Graffiti für Kinder (ab 8 Jahren)\nim Esterhazypark\nKursleiterin: Susanne 
 Eckl\nAus einem einfachen Buchstaben wird mit ein paar Strichen ein einziga
 rtiges Graffito. Wir lernen gemeinsam, wie es geht. Unterschiedliche Bilder
 , Schriftzüge oder Zeichen werden durch ihre Veränderung zu einem kleinen K
 unstwerk. Der Phantasie sind keine Grenzen gesetzt.\nDienstag, 9. Juli 2024
 , 17-19 Uhr\nKursgebühr: € 15,-\nAnmeldung unter: https://www.vhs.at/de/k/2
 79681335\n
X-ALT-DESC;FMTTYPE=text/html:<p><strong>Graffiti für Kinder (ab 8 Jahren)</strong></p><p>im Esterhazypar
 k</p><p>Kursleiterin: Susanne Eckl</p><p>Aus einem einfachen Buchstaben wir
 d mit ein paar Strichen ein einzigartiges Graffito. Wir lernen gemeinsam, w
 ie es geht. Unterschiedliche Bilder, Schriftzüge oder Zeichen werden durch 
 ihre Veränderung zu einem kleinen Kunstwerk. Der Phantasie sind keine Grenz
 en gesetzt.</p><p>Dienstag, 9. Juli 2024, 17-19 Uhr</p><p>Kursgebühr: € 15,
 -</p><p>Anmeldung unter:&nbsp;<a href="https://www.vhs.at/de/k/279681335">h
 ttps://www.vhs.at/de/k/279681335</a></p>
CONTACT:mariahilf@vhs.at
X-EXTRAINFO:[preis='1500'][anmeldung='true']
DTSTAMP:20260423T190038
DTSTART:20240709T150000
DTEND:20240709T170000
SEQUENCE:0
TRANSP:OPAQUE
END:VEVENT
END:VCALENDAR