BEGIN:VCALENDAR
VERSION:2.0
PRODID:-//jEvents 2.0 for Joomla//EN
CALSCALE:GREGORIAN
METHOD:PUBLISH
BEGIN:VEVENT
UID:8e65b9356ba5d439a581006bc42d7bd9
CATEGORIES:1. Bezirk
CREATED:20240624T132517
SUMMARY:KUNST MIT BABY - Ausstellungsführung für Eltern mit Babies von 0 bis 1 Jahr
LOCATION:Künstlerhaus Wien\, Karlsplatz 5\, 1010
DESCRIPTION:<p style="border: none; line-height: 1.5em; margin: 0px; color: #000000; fo
 nt-family: 'Roboto Condensed', sans-serif; font-size: 15px;">Babys und Elte
 rn herzlich willkommen!&nbsp;</p><p class="MsoNormal" style="border: none; 
 line-height: 1.5em; margin: 0px; color: #000000; font-family: 'Roboto Conde
 nsed', sans-serif; font-size: 15px;"><span lang="DE-AT">Das Programm KUNST 
 MIT BABY im Künstlerhaus ist für die Eltern mit Babys und Kleinkindern von 
 0 bis 12 Monate geeignet. Die Eltern und Begleitpersonen haben die Möglichk
 eit mittels einer speziellen Führung mehr über die aktuelle Ausstellung WUN
 DERKAMMER&nbsp;&nbsp;zu erfahren. Wir bieten Teilnehmer*innen an, Kunst in 
 einer entspannten Atmosphäre zu genießen und gehen auf die Bedürfnisse der 
 Babys und Mamas/Papas ein. Die Führung bietet auch eine tolle Möglichkeit f
 ür junge Eltern sich auszutauschen und andere Eltern und Kinder kennenzuler
 nen.</span></p><p class="MsoNormal" style="border: none; line-height: 1.5em
 ; margin: 0px; color: #000000; font-family: 'Roboto Condensed', sans-serif;
  font-size: 15px;">&nbsp;</p><p class="MsoNormal" style="border: none; line
 -height: 1.5em; margin: 0px; color: #000000; font-family: 'Roboto Condensed
 ', sans-serif; font-size: 15px;"><strong><span lang="DE-AT">Wichtige Inform
 ationen:</span></strong></p><ul style="color: #000000; font-family: 'Roboto
  Condensed', sans-serif; font-size: 15px;"><li class="MsoNormal"><span lang
 ="DE-AT">Altersgruppe: 0-1 Jahr</span></li><li class="MsoNormal"><span lang
 ="DE-AT">Dauer: 90 Minuten</span></li><li class="MsoNormal"><span lang="DE-
 AT">Kinderwägen und Tragen können gerne mitgebracht werden</span></li><li c
 lass="MsoNormal"><span lang="DE-AT">Barrierefreier Zugang auf der rechten S
 eite des Künstlerhauses</span></li><li class="MsoNormal"><span lang="DE-AT"
 >Wickel- und Stillmöglichkeiten stehen zur Verfügung</span></li></ul><p cla
 ss="MsoNormal" style="border: none; line-height: 1.5em; margin: 0px; color:
  #000000; font-family: 'Roboto Condensed', sans-serif; font-size: 15px;"><s
 pan lang="DE-AT"><br />Im Fall einer Verspätung melden Sie sich bitte frühe
 stmöglich bei uns</span></p><p class="MsoNormal" style="border: none; line-
 height: 1.5em; margin: 0px; color: #000000; font-family: 'Roboto Condensed'
 , sans-serif; font-size: 15px;"><span lang="DE-AT">Führungsbeitrag: Kinder 
 € 9,- / mit Kinderaktiv-Card: € 6,-</span></p><p>Tickets Kaufen unter&nbsp;
 <a href="https://kupfticket.com/events/kunst-mit-baby5">https://kupfticket.
 com/events/kunst-mit-baby5</a></p><p>&nbsp;</p>
CONTACT:kunstvermittlung@kuenstlerhaus.at
X-EXTRAINFO:[preis='900'][anmeldung='true']
DTSTAMP:20260423T111837
DTSTART:20240709T090000
DTEND:20240709T103000
SEQUENCE:0
TRANSP:OPAQUE
END:VEVENT
END:VCALENDAR