BEGIN:VCALENDAR
VERSION:2.0
PRODID:-//jEvents 2.0 for Joomla//EN
CALSCALE:GREGORIAN
METHOD:PUBLISH
BEGIN:VEVENT
UID:a07a0822bcd636d4e3944d1d6ee42a87
CATEGORIES:23. Bezirk
CREATED:19700101T010000
SUMMARY:Eltern-Kind-Tanzraum (1,5-3 Jahre)
LOCATION:VHS Erlaa\, Puztzendoplergasse 4\, 1230 Wien
DESCRIPTION:Spielerisch und mit viel Freude an Musik, Rhythmus, Bewegung und Sprache ta
 sten wir uns gemeinsam an das große Bewegungsfeld 'Tanz' heran und lassen d
 abei alles zu, was die gemeinsame Zeit für Kinder und ihre (Groß-) Eltern z
 u einem Erlebnis mit einem Strauß schöner Erinnerungen werden lässt.\nInfor
 mation und Anmeldung unter https://www.vhs.at/de/k/285682755 (https://www.v
 hs.at/de/k/285682755) oder erlaa@vhs.at (mailto:erlaa@vhs.at) / 01 89 174 1
 23 302\n
X-ALT-DESC;FMTTYPE=text/html:<p>Spielerisch und mit viel Freude an Musik, Rhythmus, Bewegung und Sprache
  tasten wir uns gemeinsam an das große Bewegungsfeld 'Tanz' heran und lasse
 n dabei alles zu, was die gemeinsame Zeit für Kinder und ihre (Groß-) Elter
 n zu einem Erlebnis mit einem Strauß schöner Erinnerungen werden lässt.</p>
 <p>Information und Anmeldung unter&nbsp;<a href="https://www.vhs.at/de/k/28
 5682755">https://www.vhs.at/de/k/285682755</a>&nbsp;oder <a href="mailto:er
 laa@vhs.at">erlaa@vhs.at</a>&nbsp;/ 01 89 174 123 302</p>
CONTACT:01 89 174 123 302 oder erlaa@vhs.at
X-EXTRAINFO:[preis='5700'][anmeldung='true']
DTSTAMP:20260423T111419
DTSTART:20241001T131500
DTEND:20241001T141500
SEQUENCE:0
RRULE:FREQ=WEEKLY;COUNT=7;INTERVAL=1;BYDAY=TU
TRANSP:OPAQUE
END:VEVENT
END:VCALENDAR