BEGIN:VCALENDAR
VERSION:2.0
PRODID:-//jEvents 2.0 for Joomla//EN
CALSCALE:GREGORIAN
METHOD:PUBLISH
BEGIN:VEVENT
UID:7411c1297d0a510db4ddce311f3686cb
CATEGORIES:23. Bezirk
CREATED:19700101T010000
SUMMARY:Elementares Musizieren (10-18 Monate) 
LOCATION:VHS Erlaa\, Puztzendoplergasse 4\, 1230 Wien
DESCRIPTION:Nach dem Kurs ist die Freude an der Musik von Eltern und Kindern geweckt. I
 hr Kind hat musikalisches Neuland erforscht und kreative Zugänge zur Musik 
 und zur Welt entdeckt, seine Sprachkompetenzen wurden gefördert. Sie selbst
  haben Ihre eigenen musikalischen Fähigkeiten (wieder-)entdeckt und entfalt
 et. Sie können die neuen Impulse und Anregungen für das gemeinsame Musikerl
 eben zu Hause nützen.\nInformation und Anmeldung unter https://www.vhs.at/d
 e/k/285681662 oder erlaa@vhs.at (mailto:erlaa@vhs.at) / 01 89 174 123 302\n
X-ALT-DESC;FMTTYPE=text/html:<p>Nach dem Kurs ist die Freude an der Musik von Eltern und Kindern geweckt
 . Ihr Kind hat musikalisches Neuland erforscht und kreative Zugänge zur Mus
 ik und zur Welt entdeckt, seine Sprachkompetenzen wurden gefördert. Sie sel
 bst haben Ihre eigenen musikalischen Fähigkeiten (wieder-)entdeckt und entf
 altet. Sie können die neuen Impulse und Anregungen für das gemeinsame Musik
 erleben zu Hause nützen.</p><p>Information und Anmeldung unter&nbsp;<a href
 ="https://www.vhs.at/de/k/285681662">https://www.vhs.at/de/k/285681662</a>&
 nbsp;oder <a href="mailto:erlaa@vhs.at">erlaa@vhs.at</a>&nbsp;/ 01 89 174 1
 23 302</p>
CONTACT:01 89 174 123 302 oder erlaa@vhs.at
X-EXTRAINFO:[preis='1400'][anmeldung='true']
DTSTAMP:20260423T162636
DTSTART:20240918T130000
DTEND:20240918T140000
SEQUENCE:0
RRULE:FREQ=WEEKLY;COUNT=2;INTERVAL=1;BYDAY=WE
TRANSP:OPAQUE
END:VEVENT
END:VCALENDAR