BEGIN:VCALENDAR
VERSION:2.0
PRODID:-//jEvents 2.0 for Joomla//EN
CALSCALE:GREGORIAN
METHOD:PUBLISH
BEGIN:VEVENT
UID:03ee23ffc9cc5431b9e702926a5fb8d4
CATEGORIES:23. Bezirk
CREATED:19700101T010000
SUMMARY:Elementares Musizieren (1,5-3 Jahre)
LOCATION:VHS Erlaa\, Puztzendoplergasse 4\, 1230 Wien
DESCRIPTION:Nach dem Kurs ist die Freude an der Musik von Eltern und Kindern geweckt. I
 hr Kind hat musikalisches Neuland erforscht und kreative Zugänge zur Musik 
 und zur Welt entdeckt, seine Sprachkompetenzen wurden gefördert. Sie selbst
  haben Ihre eigenen musikalischen Fähigkeiten (wieder-)entdeckt und entfalt
 et. Sie können die neuen Impulse und Anregungen für das gemeinsame Musikerl
 eben zu Hause nützen.\nAnmeldung und Information unter https://www.vhs.at/d
 e/k/285682864 oder erlaa@vhs.at (mailto:erlaa@vhs.at) / 01 89 174 123 302\n
X-ALT-DESC;FMTTYPE=text/html:<p>Nach dem Kurs ist die Freude an der Musik von Eltern und Kindern geweckt
 . Ihr Kind hat musikalisches Neuland erforscht und kreative Zugänge zur Mus
 ik und zur Welt entdeckt, seine Sprachkompetenzen wurden gefördert. Sie sel
 bst haben Ihre eigenen musikalischen Fähigkeiten (wieder-)entdeckt und entf
 altet. Sie können die neuen Impulse und Anregungen für das gemeinsame Musik
 erleben zu Hause nützen.</p><p>Anmeldung und Information unter&nbsp;https:/
 /www.vhs.at/de/k/285682864&nbsp;oder&nbsp;<a href="mailto:erlaa@vhs.at">erl
 aa@vhs.at</a>&nbsp;/ 01 89 174 123 302</p>
CONTACT:01 89 174 123 302 oder erlaa@vhs.at
X-EXTRAINFO:[preis='5000'][anmeldung='true']
DTSTAMP:20260423T110957
DTSTART:20241002T083000
DTEND:20241002T093000
SEQUENCE:0
RRULE:FREQ=WEEKLY;COUNT=7;INTERVAL=1;BYDAY=WE
TRANSP:OPAQUE
END:VEVENT
END:VCALENDAR