BEGIN:VCALENDAR
VERSION:2.0
PRODID:-//jEvents 2.0 for Joomla//EN
CALSCALE:GREGORIAN
METHOD:PUBLISH
BEGIN:VEVENT
UID:ba2b7ee822cbb720367272e59621c5cc
CATEGORIES:23. Bezirk
CREATED:19700101T010000
SUMMARY:Pilates mit Baby
LOCATION:VHS Erlaa\, Putzendoplergasse 4\, 1230 Wien
DESCRIPTION:<p>Pilates eignet sich sehr gut, um nach der Geburt wieder in Form zu komme
 n. Im Mittelpunkt des Trainings stehen sowohl die Aktivierung des Beckenbod
 ens, als auch die Kräftigung der Bauch- und Rückenmuskulatur. Das Baby kann
  in die Übungen miteinbezogen werden.</p><p>Anmeldung und Inforation unter&
 nbsp;<a href="https://www.vhs.at/de/k/285682908">https://www.vhs.at/de/k/28
 5682908</a>&nbsp;oder <a href="mailto:erlaa@vhs.at">erlaa@vhs.at</a> / 01 8
 9 174 123 302</p>
CONTACT:01 89 174 123 302 oder erlaa@vhs.at
X-EXTRAINFO:[preis='3200'][anmeldung='true']
DTSTAMP:20260423T111921
DTSTART:20241017T080000
DTEND:20241017T090000
SEQUENCE:0
RRULE:FREQ=WEEKLY;COUNT=4;INTERVAL=1;BYDAY=TH
TRANSP:OPAQUE
END:VEVENT
END:VCALENDAR