BEGIN:VCALENDAR
VERSION:2.0
PRODID:-//jEvents 2.0 for Joomla//EN
CALSCALE:GREGORIAN
METHOD:PUBLISH
BEGIN:VEVENT
UID:b34f420db7aae9c5fe11594fff4b8d31
CATEGORIES:23. Bezirk
CREATED:20240624T140902
SUMMARY:Yoga mit Baby
LOCATION:VHS Erlaa\, Putzendoplergasse 4\, 1230 Wien
DESCRIPTION:Dieser Kurs bietet Ihnen die Möglichkeit, Ihr Baby (bis etwa 20 Monate) dab
 ei zu haben und mit einzubeziehen, während Sie etwas für sich selbst tun. I
 n Verbindung mit gezielter Atmung trainieren die Körperübungen (Asanas) des
  Hatha Yoga die Beweglichkeit, Kraftausdauer, Koordination, Haltung und das
  Gleichgewicht. Durch die Konzentration auf die jeweilige Übung kommen auch
  die Gedanken zur Ruhe. Die Asanas orientieren sich an den Bedürfnissen der
  Teilnehmer*innen.\nAnmeldung und Information unter https://www.vhs.at/de/k
 /285685756 (https://www.vhs.at/de/k/285685756) oder erlaa@vhs.at (mailto:er
 laa@vhs.at) / 01 89 174 123 302\n
X-ALT-DESC;FMTTYPE=text/html:<p>Dieser Kurs bietet Ihnen die Möglichkeit, Ihr Baby (bis etwa 20 Monate) 
 dabei zu haben und mit einzubeziehen, während Sie etwas für sich selbst tun
 . In Verbindung mit gezielter Atmung trainieren die Körperübungen (Asanas) 
 des Hatha Yoga die Beweglichkeit, Kraftausdauer, Koordination, Haltung und 
 das Gleichgewicht. Durch die Konzentration auf die jeweilige Übung kommen a
 uch die Gedanken zur Ruhe. Die Asanas orientieren sich an den Bedürfnissen 
 der Teilnehmer*innen.</p><p>Anmeldung und Information unter&nbsp;<a href="h
 ttps://www.vhs.at/de/k/285685756">https://www.vhs.at/de/k/285685756</a>&nbs
 p;oder <a href="mailto:erlaa@vhs.at">erlaa@vhs.at</a>&nbsp;/ 01 89 174 123 
 302</p>
CONTACT:01 89 174 123 302 oder erlaa@vhs.at
X-EXTRAINFO:[preis='3200'][anmeldung='true']
DTSTAMP:20260423T141729
DTSTART:20241008T080000
DTEND:20241008T090000
SEQUENCE:0
TRANSP:OPAQUE
END:VEVENT
END:VCALENDAR