BEGIN:VCALENDAR
VERSION:2.0
PRODID:-//jEvents 2.0 for Joomla//EN
CALSCALE:GREGORIAN
METHOD:PUBLISH
BEGIN:VEVENT
UID:1a8d137998cdaa5c14cd7ab89bcf02ce
CATEGORIES:8. Bezirk
CREATED:19700101T010000
SUMMARY:Baby & Me Acroyoga (5-15 Monate)
LOCATION:VHS Josefstadt\, Schmidgasse 18\, 1080 Wien
DESCRIPTION:"Baby&amp;Me Acroyoga" ist eine Kombination aus Akrobatik, Spiel, Yoga und 
 Massage. In diesem Kurs erkunden Eltern mit ihren Babys neue Bewegungen und
  erste gemeinsame akrobatische Elemente. Durch körperliche Aktivitäten und 
 spielerische Interaktion wird die motorische Entwicklung der Babys unterstü
 tzt und Vertrauen und Bindung zwischen Eltern und Kind vertieft.\n \n \n  \
 nDo, 03.10.2024, 11:00 - 12:00 UhrDo, 10.10.2024, 11:00 - 12:00 UhrDo, 17.1
 0.2024, 11:00 - 12:00 UhrDo, 24.10.2024, 11:00 - 12:00 UhrDo, 31.10.2024, 1
 1:00 - 12:00 UhrDo, 07.11.2024, 11:00 - 12:00 Uhr \nZur Buchung (https://ww
 w.vhs.at/de/k/279696756)\n
X-ALT-DESC;FMTTYPE=text/html:<p><span style="color: #000000; font-family: Dax, 'System Font', Verdana, s
 ans-serif; font-size: 20px; background-color: #f2f2f2;">"Baby&amp;Me Acroyo
 ga" ist eine Kombination aus Akrobatik, Spiel, Yoga und Massage. In diesem 
 Kurs erkunden Eltern mit ihren Babys neue Bewegungen und erste gemeinsame a
 krobatische Elemente. Durch körperliche Aktivitäten und spielerische Intera
 ktion wird die motorische Entwicklung der Babys unterstützt und Vertrauen u
 nd Bindung zwischen Eltern und Kind vertieft.</span></p><p>&nbsp;</p><p>&nb
 sp;</p><div class="sidebar-widget" style="box-sizing: border-box; margin: 4
 rem 0px 0px; padding: 0px; border: 0px; font-style: normal; font-variant-li
 gatures: normal; font-variant-caps: normal; font-variant-numeric: inherit; 
 font-variant-east-asian: inherit; font-variant-alternates: inherit; font-va
 riant-position: inherit; font-weight: 400; font-stretch: inherit; font-size
 : 15px; line-height: inherit; font-family: Dax, 'System Font', Verdana, san
 s-serif; font-optical-sizing: inherit; font-kerning: inherit; font-feature-
 settings: inherit; font-variation-settings: inherit; vertical-align: baseli
 ne; color: #000000; letter-spacing: normal; orphans: 2; text-align: start; 
 text-indent: 0px; text-transform: none; widows: 2; word-spacing: 0px; -webk
 it-text-stroke-width: 0px; white-space: normal; background-color: #f2f2f2; 
 text-decoration-thickness: initial; text-decoration-style: initial; text-de
 coration-color: initial;">&nbsp;</div><p>&nbsp;</p><div class="sidebar-widg
 et" style="box-sizing: border-box; margin: 4rem 0px 0px; padding: 0px; bord
 er: 0px; font-style: normal; font-variant-ligatures: normal; font-variant-c
 aps: normal; font-variant-numeric: inherit; font-variant-east-asian: inheri
 t; font-variant-alternates: inherit; font-variant-position: inherit; font-w
 eight: 400; font-stretch: inherit; font-size: 15px; line-height: inherit; f
 ont-family: Dax, 'System Font', Verdana, sans-serif; font-optical-sizing: i
 nherit; font-kerning: inherit; font-feature-settings: inherit; font-variati
 on-settings: inherit; vertical-align: baseline; color: #000000; letter-spac
 ing: normal; orphans: 2; text-align: start; text-indent: 0px; text-transfor
 m: none; widows: 2; word-spacing: 0px; -webkit-text-stroke-width: 0px; whit
 e-space: normal; background-color: #f2f2f2; text-decoration-thickness: init
 ial; text-decoration-style: initial; text-decoration-color: initial;"><div 
 class="dates-widget" style="box-sizing: border-box; margin: 0px; padding: 2
 rem; border: 0px; font: inherit; vertical-align: baseline; background: #fff
 fff; border-radius: 10px; max-width: 33rem;"><ul class="dtsw-list list" sty
 le="box-sizing: border-box; padding-left: 4rem;"><li class="dtsw-item" styl
 e="box-sizing: border-box; margin-bottom: 1rem; padding-left: 1rem;">Do, 03
 .10.2024, 11:00 - 12:00 Uhr</li><li class="dtsw-item" style="box-sizing: bo
 rder-box; margin-bottom: 1rem; padding-left: 1rem;">Do, 10.10.2024, 11:00 -
  12:00 Uhr</li><li class="dtsw-item" style="box-sizing: border-box; margin-
 bottom: 1rem; padding-left: 1rem;">Do, 17.10.2024, 11:00 - 12:00 Uhr</li><l
 i class="dtsw-item" style="box-sizing: border-box; margin-bottom: 1rem; pad
 ding-left: 1rem;">Do, 24.10.2024, 11:00 - 12:00 Uhr</li><li class="dtsw-ite
 m" style="box-sizing: border-box; margin-bottom: 1rem; padding-left: 1rem;"
 >Do, 31.10.2024, 11:00 - 12:00 Uhr</li><li class="dtsw-item" style="box-siz
 ing: border-box; margin-bottom: 1rem; padding-left: 1rem;">Do, 07.11.2024, 
 11:00 - 12:00 Uhr</li></ul><p>&nbsp;</p><p><a href="https://www.vhs.at/de/k
 /279696756">Zur Buchung</a></p></div></div>
CONTACT:josefstadt@vhs.at
X-EXTRAINFO:[preis='4900'][anmeldung='true']
DTSTAMP:20260423T094806
DTSTART:20241003T090000
DTEND:20241107T110000
SEQUENCE:0
RRULE:FREQ=WEEKLY;UNTIL=20241108T000000Z;INTERVAL=7;BYDAY=TH
TRANSP:OPAQUE
END:VEVENT
END:VCALENDAR