BEGIN:VCALENDAR
VERSION:2.0
PRODID:-//jEvents 2.0 for Joomla//EN
CALSCALE:GREGORIAN
METHOD:PUBLISH
BEGIN:VEVENT
UID:ab722b7ab7379e3548a6cfb2bf70ddd3
CATEGORIES:1. Bezirk
CREATED:20240703T114942
SUMMARY:MEINE GEHEIMNISVOLLE WUNDERSCHACHTEL
LOCATION:Künstlerhaus Wien\, Karlsplatz 5\, 1010
DESCRIPTION:In der Ausstellung „Wunderkammer“ entdecken wir wundervolle Kunstwerke in F
 orm von Bildern, Skulpturen und Objekten. Nach dem Rundgang erforschen wir 
 wundersame Dinge zum Angreifen und Rätseln, entdecken fantastische Erfindun
 gen, die uns zum Staunen bringen und gestalten mit gefundenen und gesammelt
 en Schätzen unsere eigene geheimnisvolle Wunderschachtel!\n \nDauer: 120 Mi
 nuten\nAltersgruppe: 6-10 Jahre\nWorkshopbeitrag: Kinder € 5,- / mit kinder
 aktiv-Card: € 3,-\nMitglieder Künstlerhaus, GBKKÖ / Freundesverein: € 3,-\n
 Im Rahmen des wienXtra Ferienspiel-Programms\n \nInformation\nBitte beachte
 n Sie, dass dieser Workshop nur für Kinder konzipiert ist. Eltern und Begle
 itpersonen können leider nicht teilnehmen.\nWir treffen uns ab 10:45 Uhr im
  Foyer neben der Hauptstiege, um 13 Uhr ist dort auch wieder die Abholung.\
 nDie Workshops fangen pünktlich um 11 Uhr an, im Fall einer Verspätung meld
 en Sie sich bitte frühestmöglich bei uns oder wenden Sie sich an das Kassap
 ersonal.\nFalls Ihr Kind nicht am Workshop teilnehmen kann bitten wir um Mi
 tteilung an kunstvermittlung@kuenstlerhaus.at\nBitte Kleidung anziehen, die
  auch bunt werden darf!\nTickets erhältlich unter:\nhttps://kupfticket.com/
 events/meine-geheimnisvolle-wunderschachtel\n\n \nKontakt und Information\n
 + 43 1 587 96 63 20\nkunstvermittlung@kuenstlerhaus.at\n
X-ALT-DESC;FMTTYPE=text/html:<p class="MsoNormal">In der Ausstellung „Wunderkammer“ entdecken wir wunder
 volle Kunstwerke in Form von Bildern, Skulpturen und Objekten. Nach dem Run
 dgang erforschen wir wundersame Dinge zum Angreifen und Rätseln, entdecken 
 fantastische Erfindungen, die uns zum Staunen bringen und gestalten mit gef
 undenen und gesammelten Schätzen unsere eigene geheimnisvolle Wunderschacht
 el!</p><p class="MsoNormal">&nbsp;</p><p class="MsoNormal">Dauer: 120 Minut
 en<br />Altersgruppe: 6-10 Jahre<br />Workshopbeitrag: Kinder € 5,- / mit k
 inderaktiv-Card: € 3,-<br />Mitglieder Künstlerhaus, GBKKÖ / Freundesverein
 : € 3,-<br />Im Rahmen des wienXtra Ferienspiel-Programms</p><p class="MsoN
 ormal">&nbsp;</p><p class="MsoNormal">Information</p><p class="MsoNormal">B
 itte beachten Sie, dass dieser Workshop nur für Kinder konzipiert ist. Elte
 rn und Begleitpersonen können leider nicht teilnehmen.</p><p class="MsoNorm
 al">Wir treffen uns ab 10:45 Uhr im Foyer neben der Hauptstiege, um 13 Uhr 
 ist dort auch wieder die Abholung.</p><p class="MsoNormal">Die Workshops fa
 ngen pünktlich um 11 Uhr an, im Fall einer Verspätung melden Sie sich bitte
  frühestmöglich bei uns oder wenden Sie sich an das Kassapersonal.</p><p cl
 ass="MsoNormal">Falls Ihr Kind nicht am Workshop teilnehmen kann bitten wir
  um Mitteilung an kunstvermittlung@kuenstlerhaus.at</p><p class="MsoNormal"
 >Bitte Kleidung anziehen, die auch bunt werden darf!</p><p class="MsoNormal
 "><span style="mso-spacerun: yes;">Tickets erhältlich unter:<br />https://k
 upfticket.com/events/meine-geheimnisvolle-wunderschachtel<br /></span></p><
 p>&nbsp;</p><p class="MsoNormal">Kontakt und Information<br />+ 43 1 587 96
  63 20<br />kunstvermittlung@kuenstlerhaus.at</p>
CONTACT:kunstvermittlung@kuenstlerhaus.at
X-EXTRAINFO:[preis='500'][anmeldung='true']
DTSTAMP:20260423T082112
DTSTART:20240711T090000
DTEND:20240711T110000
SEQUENCE:0
TRANSP:OPAQUE
END:VEVENT
END:VCALENDAR