BEGIN:VCALENDAR
VERSION:2.0
PRODID:-//jEvents 2.0 for Joomla//EN
CALSCALE:GREGORIAN
METHOD:PUBLISH
BEGIN:VEVENT
UID:4509512205a465a54e2cfc33b66bf3b4
CATEGORIES:1. Bezirk
CREATED:20240703T115203
SUMMARY:MEINE GEHEIMNISVOLLE WUNDERSCHACHTEL
LOCATION:Künstlerhaus Wien\, Karlsplatz 5\, 1010
DESCRIPTION:In der Ausstellung „Wunderkammer“ entdecken wir wundervolle Kunstwerke in F
 orm von Bildern, Skulpturen und Objekten. Nach dem Rundgang erforschen wir 
 wundersame Dinge zum Angreifen und Rätseln, entdecken fantastische Erfindun
 gen, die uns zum Staunen bringen und gestalten mit gefundenen und gesammelt
 en Schätzen unsere eigene geheimnisvolle Wunderschachtel!\n \nDauer: 120 Mi
 nuten\n Altersgruppe: 6-10 Jahre\n Workshopbeitrag: Kinder € 5,- / mit kind
 eraktiv-Card: € 3,-\n Mitglieder Künstlerhaus, GBKKÖ / Freundesverein: € 3,
 -\n Im Rahmen des wienXtra Ferienspiel-Programms\nTickets erhältlich unter:
  https://kupfticket.com/events/meine-geheimnisvolle-wunderschachtel2\n \nIn
 formation\nBitte beachten Sie, dass dieser Workshop nur für Kinder konzipie
 rt ist. Eltern und Begleitpersonen können leider nicht teilnehmen.\nWir tre
 ffen uns ab 10:45 Uhr im Foyer neben der Hauptstiege, um 13 Uhr ist dort au
 ch wieder die Abholung.\nDie Workshops fangen pünktlich um 11 Uhr an, im Fa
 ll einer Verspätung melden Sie sich bitte frühestmöglich bei uns oder wende
 n Sie sich an das Kassapersonal.\nFalls Ihr Kind nicht am Workshop teilnehm
 en kann bitten wir um Mitteilung an kunstvermittlung@kuenstlerhaus.at\nBitt
 e Kleidung anziehen, die auch bunt werden darf!\n  \nKontakt und Informatio
 n\n + 43 1 587 96 63 20\n kunstvermittlung@kuenstlerhaus.at\n
X-ALT-DESC;FMTTYPE=text/html:<p class="MsoNormal">In der Ausstellung „Wunderkammer“ entdecken wir wunder
 volle Kunstwerke in Form von Bildern, Skulpturen und Objekten. Nach dem Run
 dgang erforschen wir wundersame Dinge zum Angreifen und Rätseln, entdecken 
 fantastische Erfindungen, die uns zum Staunen bringen und gestalten mit gef
 undenen und gesammelten Schätzen unsere eigene geheimnisvolle Wunderschacht
 el!</p><p class="MsoNormal">&nbsp;</p><p class="MsoNormal">Dauer: 120 Minut
 en<br /> Altersgruppe: 6-10 Jahre<br /> Workshopbeitrag: Kinder € 5,- / mit
  kinderaktiv-Card: € 3,-<br /> Mitglieder Künstlerhaus, GBKKÖ / Freundesver
 ein: € 3,-<br /> Im Rahmen des wienXtra Ferienspiel-Programms</p><p class="
 MsoNormal">Tickets erhältlich unter:&nbsp;https://kupfticket.com/events/mei
 ne-geheimnisvolle-wunderschachtel2</p><p class="MsoNormal">&nbsp;</p><p cla
 ss="MsoNormal">Information</p><p class="MsoNormal">Bitte beachten Sie, dass
  dieser Workshop nur für Kinder konzipiert ist. Eltern und Begleitpersonen 
 können leider nicht teilnehmen.</p><p class="MsoNormal">Wir treffen uns ab 
 10:45 Uhr im Foyer neben der Hauptstiege, um 13 Uhr ist dort auch wieder di
 e Abholung.</p><p class="MsoNormal">Die Workshops fangen pünktlich um 11 Uh
 r an, im Fall einer Verspätung melden Sie sich bitte frühestmöglich bei uns
  oder wenden Sie sich an das Kassapersonal.</p><p class="MsoNormal">Falls I
 hr Kind nicht am Workshop teilnehmen kann bitten wir um Mitteilung an kunst
 vermittlung@kuenstlerhaus.at</p><p class="MsoNormal">Bitte Kleidung anziehe
 n, die auch bunt werden darf!</p><p class="MsoNormal"><br style="mso-specia
 l-character: line-break;" /> <br style="mso-special-character: line-break;"
  /> </p><p class="MsoNormal">Kontakt und Information<br /> + 43 1 587 96 63
  20<br /> kunstvermittlung@kuenstlerhaus.at</p>
CONTACT:kunstvermittlung@kuenstlerhaus.at
X-EXTRAINFO:[preis='500'][anmeldung='true']
DTSTAMP:20260423T082013
DTSTART:20240712T090000
DTEND:20240712T110000
SEQUENCE:0
TRANSP:OPAQUE
END:VEVENT
END:VCALENDAR