BEGIN:VCALENDAR
VERSION:2.0
PRODID:-//jEvents 2.0 for Joomla//EN
CALSCALE:GREGORIAN
METHOD:PUBLISH
BEGIN:VEVENT
UID:9a8d564416d87c9b3851b99ec52a803d
CATEGORIES:2. Bezirk
CREATED:19700101T010000
SUMMARY:Musikgruppe 1-2 Jahre Semestergruppe
LOCATION:Eltern-Kind-Zentrum Kind&amp;Kegel\, Praterstraße 14/8\, 1020 Wien
DESCRIPTION:<h2 style="color: #78c752;"><span style="font-size: 146%;">M</span>usikgrup
 pen im Kind&amp;Kegel</h2><h3>für Kinder von 6 Monaten bis 5 Jahre und eine
  Begleitperson</h3><p>Musikalische Frühförderung lässt Kinder erleben, wie 
 viel Freude im gemeinsamen Musizieren, Singen und Tanzen liegt. Nach neuest
 en erziehungs-, musik- und sprachwissenschaftlichen Erkenntnissen werden di
 e natürlichen musikalischen Fähigkeiten der Kinder ohne Leistungsdruck zur 
 Entfaltung gebracht.</p><p>Eine ausgewogene Mischung aus Singen und Spreche
 n, Bewegung und Instrumentalspiel sorgt für Abwechslung. Der wachsenden Sel
 bständigkeit der Kinder wird mit vermehrten interaktiven Spielen und Freira
 um für eigene Gestaltungsideen Rechnung getragen. Keine Vorkenntnisse erfor
 derlich!</p><p>06-12 M: Dienstag, 09:30-10:20, ab 24.9.24</p><p><strong>1-2
  Jahre: Dienstag, 10:40-11:30, ab 24.9.24</strong></p><p>2-3 Jahre: Montag,
  15:30-16:20, ab 23.9.24</p><p>2-5 Jahre: Dienstag, 16:40-17:30, ab 24.9.24
  altersgemischt für Geschwisterkinder</p><p>3-4 Jahre: Dienstag, 15:30-16:2
 0, ab 24.9.24</p><p>4-5 Jahre: Montag, 16:40-17:30, ab 23.9.24</p><table st
 yle="width: 5px; height: 17px;"><tbody><tr><td>&nbsp;</td><td>&nbsp;</td><t
 d>&nbsp;</td></tr><tr><td>&nbsp;</td><td>&nbsp;</td><td>&nbsp;</td></tr></t
 body></table><p>Wir weisen darauf hin, dass es nicht möglich ist, Geschwist
 erkinder in die Gruppe mitzunehmen (Babies bis 6 Monate können <b>nach Absp
 rache</b> mitgenommen werden (max. 2 Babies pro Gruppe). In der altersgemis
 chten Gruppe 2-5J haben Geschwisterkinder Vorrang!</p><p>Kosten: € 199.-</p
 ><p>Anmeldung erforderlich!</p>
CONTACT:info@kind-und-kegel.at, 01 503 71 88
X-EXTRAINFO:[preis='19900'][anmeldung='true']
DTSTAMP:20260423T190343
DTSTART:20240924T084000
DTEND:20240924T093000
SEQUENCE:0
RRULE:FREQ=WEEKLY;UNTIL=20240925T000000Z;INTERVAL=1;BYDAY=TU
TRANSP:OPAQUE
END:VEVENT
END:VCALENDAR