BEGIN:VCALENDAR
VERSION:2.0
PRODID:-//jEvents 2.0 for Joomla//EN
CALSCALE:GREGORIAN
METHOD:PUBLISH
BEGIN:VEVENT
UID:4ee2da78581dc3e5411ab11b2c0f038a
CATEGORIES:15. Bezirk
CREATED:20240704T120519
SUMMARY:Eltern werden- aber wie? Workshop für werdende Väter und ihre schwangeren Partnerinnen
LOCATION:Dingelstedtgasse 24/2 
DESCRIPTION:Einmal im Monat findet ein kostenloser Geburtsvorbereitungs-Workshop mit Sc
 hwerpunkt für werdende Väter statt. Die schwangeren Partnerinnen sind natür
 lich ebenfalls herzlich eingeladen.\nKostenlos, Anmeldung erforderlich unte
 r anfrage@fruehehilfen.wien\n
X-ALT-DESC;FMTTYPE=text/html:<p>Einmal im Monat findet ein kostenloser Geburtsvorbereitungs-Workshop mit
  Schwerpunkt für werdende Väter statt. Die schwangeren Partnerinnen sind na
 türlich ebenfalls herzlich eingeladen.</p><p>Kostenlos, Anmeldung erforderl
 ich unter anfrage@fruehehilfen.wien</p>
CONTACT:01 / 38 9 83,  anfrage@fruehehilfen.wien
DTSTAMP:20260423T160222
DTSTART:20240712T130000
DTEND:20240712T160000
SEQUENCE:0
TRANSP:OPAQUE
END:VEVENT
END:VCALENDAR