BEGIN:VCALENDAR
VERSION:2.0
PRODID:-//jEvents 2.0 for Joomla//EN
CALSCALE:GREGORIAN
METHOD:PUBLISH
BEGIN:VEVENT
UID:7cd1c4dc4d1e0904f864d24c79656bec
CATEGORIES:2. Bezirk
CREATED:20240704T151605
SUMMARY:Trotzkind, Wutzwerg? - Welteroberer! Selbermacherin! Workshop ONLINE
LOCATION:ONLINE Kind&amp;Kegel Eltern-Kind-Zentrum
DESCRIPTION:<p><b>Kinder in der Autonomiephase besser verstehen und begleiten:</b><br /
 > Welche wichtigen geistigen Entwicklungen passieren in der Kleinkindzeit? 
 Und wie zeigen sie sich in den für die Autonomiephase typischen (und oft ne
 rvenaufreibenden) Verhaltensweisen? Wie können wir unsere Kinder bedürfnis-
  und kompetenzorientiert durch diese turbulente Zeit begleiten, ohne dabei 
 selbst den Kopf zu verlieren? In diesem Workshop bekommt ihr theoretisches 
 Hintergrundwissen, handfeste Praxistipps und vor allem neue Perspektiven zu
  diesen und anderen Fragen rund um die Autonomiephase.</p><table><tbody><tr
 ><td><p><span class="fett">Leitung:</span> Mag<span class="kleinhoch">a</sp
 an> Sophie Schönwälder-Rieder <br /> <span class="fett">Termin:</span> Dien
 stag, 17.09.24, 19:<span class="kleinhoch">30</span> - 21:<span class="klei
 nhoch">00</span> Uhr<br /> <span class="fett">Kosten</span>: € 28,- pro Ter
 min,<br /> Anmeldung erforderlich!</p></td></tr></tbody></table><p class="c
 ovid19">Dieser Workshop findet <strong>online</strong> statt.</p><p>&nbsp;<
 /p>
CONTACT:info@kind-und-kegel.at, 01 503 71 88, www.kind-und-kegel.at
X-EXTRAINFO:[preis='2800'][anmeldung='true']
DTSTAMP:20260423T202823
DTSTART:20240917T173000
DTEND:20240917T190000
SEQUENCE:0
TRANSP:OPAQUE
END:VEVENT
END:VCALENDAR