BEGIN:VCALENDAR
VERSION:2.0
PRODID:-//jEvents 2.0 for Joomla//EN
CALSCALE:GREGORIAN
METHOD:PUBLISH
BEGIN:VEVENT
UID:6835e716662bd34d346f90a43fa47c38
CATEGORIES:2. Bezirk
CREATED:20240704T154702
SUMMARY:Grenzen setzen - aber wie? Workshop 2teilig
LOCATION:Eltern-Kind-Zentrum Kind&amp;Kegel\, Praterstraße 14/8\, 1020 Wien
DESCRIPTION:Grenzen setzen - aber wie? [2teiliger Workshop] \nWann sind Grenzen notwend
 ig? Wie gelingt es mir, dass die Grenzen eingehalten werden? Was haben mein
 e eigenen Erfahrungen mit Grenzen als Kind damit zu tun?\n Diese Fragen und
  die der TeilnehmerInnen, werden wir gemeinsam an 2 Abenden besprechen.\n A
 ls Methoden dieses auf 2 Abende aufgeteilten Workshops setzen wir Theorie-I
 nput, praktische übungen und Austausch ein.\nLeitung: Eva Schrems, MA, Mont
 essori- und Theaterpädagogin, systemische Coach\n Termine: Dienstag,\n 12.1
 1.24, 18:30 - 20:30 Uhr, und\n 26.11.24, 18:30 - 20:30 Uhr\n Kosten: € 55,-
  (für beide Termine), Anmeldung erforderlich!\n \n
X-ALT-DESC;FMTTYPE=text/html:<h2 class="unterstrich">Grenzen setzen - aber wie? [2teiliger Workshop]</h2
 ><p>&nbsp;</p><p>Wann sind Grenzen notwendig? Wie gelingt es mir, dass die 
 Grenzen eingehalten werden? Was haben meine eigenen Erfahrungen mit Grenzen
  als Kind damit zu tun?<br /> Diese Fragen und die der TeilnehmerInnen, wer
 den wir gemeinsam an 2 Abenden besprechen.<br /> Als Methoden dieses auf 2 
 Abende aufgeteilten Workshops setzen wir Theorie-Input, praktische übungen 
 und Austausch ein.</p><p><span class="fett">Leitung:</span> Eva Schrems, MA
 , Montessori- und Theaterpädagogin, systemische Coach<br /> <span class="fe
 tt">Termine:</span> Dienstag,<br /> 12.11.24, 18:<span class="kleinhoch">30
 </span> - 20:<span class="kleinhoch">30</span> Uhr, und<br /> 26.11.24, 18:
 <span class="kleinhoch">30</span> - 20:<span class="kleinhoch">30</span> Uh
 r<br /> <span class="fett">Kosten</span>: € 55,- (für beide Termine), Anmel
 dung erforderlich!</p><p>&nbsp;</p>
CONTACT:info@kind-und-kegel.at, 01 503 71 88, www.kind-und-kegel.at
X-EXTRAINFO:[preis='5500'][anmeldung='true']
DTSTAMP:20260423T155305
DTSTART:20241112T173000
DTEND:20241112T193000
SEQUENCE:0
TRANSP:OPAQUE
END:VEVENT
END:VCALENDAR