BEGIN:VCALENDAR
VERSION:2.0
PRODID:-//jEvents 2.0 for Joomla//EN
CALSCALE:GREGORIAN
METHOD:PUBLISH
BEGIN:VEVENT
UID:1ddfa8b6f11021ad82ea9e7cba89b676
CATEGORIES:2. Bezirk
CREATED:20240704T155245
SUMMARY:Freie Bewegungsentwicklung - Vortrag
LOCATION:Eltern-Kind-Zentrum Kind&amp;Kegel\, Praterstraße 14/8\, 1020 Wien
DESCRIPTION:<h2 class="unterstrich">Freie Bewegungsentwicklung in den ersten drei Leben
 sjahren [Vortrag]</h2><p>&nbsp;</p><p>Die motorische Entwicklung von Babys 
 und Kleinkindern kann man im Alltag unterstützen, aber auch unwissentlich n
 egativ beeinflussen. Stets die gleiche Liegeposition, passives Hinsetzen un
 d Gehen an den Händen sind nur ein Auszug aus vielen Handlungen die für die
  physiologische Entwicklung nicht ideal sind. Ganz nach dem Motto "Hilf mir
  es selbst zu tun" ist in der Bewegungsentwicklung weniger oft mehr.</p><p>
 &nbsp;</p><p>Ist es normal, wenn mein Baby nicht krabbelt? Ab wann soll mei
 n Baby im Sportsitz im Kinderwagen sitzen? Ab wann braucht mein Kind Schuhe
 ?</p><p>&nbsp;</p><p>Fragen wie diese sollen geklärt und Alternativen aufge
 zeigt werden. Die Meilensteine der motorischen Entwicklung werden dargestel
 lt.</p><p><span class="fett">Leitung:</span> Claudia Schwarz, BSc<br /> <sp
 an class="fett">Termin:</span> Donnerstag, 21.11.24, 19:<span class="kleinh
 och">00</span> - 20:30 Uhr<br /> <span class="fett">Kosten</span>: € 28,- p
 ro Termin, Anmeldung erforderlich!</p><p>&nbsp;</p>
CONTACT:info@kind-und-kegel.at, 01 503 71 88, www.kind-und-kegel.at
X-EXTRAINFO:[preis='000'][anmeldung='true']
DTSTAMP:20260423T161223
DTSTART:20241121T180000
DTEND:20241121T193000
SEQUENCE:0
TRANSP:OPAQUE
END:VEVENT
END:VCALENDAR