BEGIN:VCALENDAR
VERSION:2.0
PRODID:-//jEvents 2.0 for Joomla//EN
CALSCALE:GREGORIAN
METHOD:PUBLISH
BEGIN:VEVENT
UID:6676199df8f2ad999a091de0c9112a27
CATEGORIES:23. Bezirk
CREATED:20240715T144831
SUMMARY:Yoga für Schwangere 
LOCATION:VHS Mauer\, Speisinger Straße 256\, 1230 Wien
DESCRIPTION:Dieser Kurs begleitet werdende Mütter durch die Schwangerschaft und unterst
 ützt sie dabei, diese besondere Zeit bewusster und zugleich gelassener zu e
 rleben. Die Yogapositionen werden sanfter ausgeführt als beim herkömmlichen
  Yoga und sind auf die speziellen Bedürfnisse werdender Mütter abgestimmt -
  sie fördern Entspannung und Wohlbefinden und helfen ihnen dabei, Stress un
 d Ängste abzubauen und diese wichtige Lebensphase als positiv und bereicher
 nd zu erleben. Die Teilnahme ist ab der 13. Schwangerschaftswoche bis zu Ge
 burt möglich.\nAnmeldung per Mail an mauer@vhs.at (mailto:mauer@vhs.at) ode
 r online unter https://www.vhs.at/de/k/285693898 (https://www.vhs.at/de/k/2
 85693898)\n
X-ALT-DESC;FMTTYPE=text/html:<p>Dieser Kurs begleitet werdende Mütter durch die Schwangerschaft und unte
 rstützt sie dabei, diese besondere Zeit bewusster und zugleich gelassener z
 u erleben. Die Yogapositionen werden sanfter ausgeführt als beim herkömmlic
 hen Yoga und sind auf die speziellen Bedürfnisse werdender Mütter abgestimm
 t - sie fördern Entspannung und Wohlbefinden und helfen ihnen dabei, Stress
  und Ängste abzubauen und diese wichtige Lebensphase als positiv und bereic
 hernd zu erleben. Die Teilnahme ist ab der 13. Schwangerschaftswoche bis zu
  Geburt möglich.</p><p>Anmeldung per Mail an <a href="mailto:mauer@vhs.at">
 mauer@vhs.at</a>&nbsp;oder online unter&nbsp;<a href="https://www.vhs.at/de
 /k/285693898">https://www.vhs.at/de/k/285693898</a></p>
CONTACT:0189174/123001
X-EXTRAINFO:[preis='5700'][anmeldung='true']
DTSTAMP:20260423T144245
DTSTART:20240925T123000
DTEND:20241106T143000
SEQUENCE:0
TRANSP:OPAQUE
END:VEVENT
END:VCALENDAR