BEGIN:VCALENDAR
VERSION:2.0
PRODID:-//jEvents 2.0 for Joomla//EN
CALSCALE:GREGORIAN
METHOD:PUBLISH
BEGIN:VEVENT
UID:bc7fa953d8c2163a703681be37b916b6
CATEGORIES:1. Bezirk
CREATED:20240715T145147
SUMMARY:Kinderflohmarkt im Arkadenhof des Erzbischöflichen Palais am 22. September 2024
LOCATION:Rotenturmstrasse 2\, 1010 Wien
DESCRIPTION:Am 22. September 2024 laden meinefamilie.at in Kooperation mit der St. Elis
 abeth-Stiftung Wien Familien, Kinder und Flohmarktbegeisterte zum Stöbern a
 uf dem Kinderflohmarkt im Arkadenhof des Erzbischöflichen Palais ein. \nDas
  erwartet dich beim Kinderflohmarkt am Stephansplatz:\n- Viele Stände zum S
 töbern: Kinderkleidung, Bücher, Spielzeug, Schulwaren und vieles mehr! \n- 
 Kinderschminken\n- Die Andreaskapelle im Erzbischöflichen Palais lädt zum E
 ntdecken ein! \nUnd das alles bei freiem Eintritt!\nFür Aussteller: \nStand
 platzgebühr: € 25,- \nTische &amp; Bänke werden zur Verfügung gestellt (pro
  Aussteller ein Tisch und eine Bank) \nAnlieferung: 22. Mai 2024, 07:00 bis
  08:30 Uhr; Zufahrt mit dem PKW ist möglich \nAnmeldung ist unbedingt erfor
 derlich\nE-Mail: kinderflohmarkt@meinefamilie.at (mailto:kinderflohmarkt@me
 inefamilie.at) \nhttps://www.meinefamilie.at/veranstaltungen/kinderflohmark
 t-wien (https://www.meinefamilie.at/veranstaltungen/kinderflohmarkt-wien)\n
  \n
X-ALT-DESC;FMTTYPE=text/html:<p class="MsoNormal">Am 22. September 2024 laden meinefamilie.at in Koopera
 tion mit der St. Elisabeth-Stiftung Wien Familien, Kinder und Flohmarktbege
 isterte zum Stöbern auf dem Kinderflohmarkt im Arkadenhof des Erzbischöflic
 hen Palais ein. </p><p class="MsoNormal">Das erwartet dich beim Kinderflohm
 arkt am Stephansplatz:</p><p class="MsoNormal">- Viele Stände zum Stöbern: 
 Kinderkleidung, Bücher, Spielzeug, Schulwaren und vieles mehr! </p><p class
 ="MsoNormal">- Kinderschminken</p><p class="MsoNormal">- Die Andreaskapelle
  im Erzbischöflichen Palais lädt zum Entdecken ein! </p><p class="MsoNormal
 "><b style="mso-bidi-font-weight: normal;">Und das alles bei freiem Eintrit
 t!</b></p><p class="MsoNoSpacing">Für Aussteller: </p><p class="MsoNoSpacin
 g">Standplatzgebühr: € 25,- </p><p class="MsoNoSpacing">Tische &amp; Bänke 
 werden zur Verfügung gestellt (pro Aussteller ein Tisch und eine Bank) </p>
 <p class="MsoNoSpacing">Anlieferung: 22. Mai 2024, 07:00 bis 08:30 Uhr; <b>
 Zufahrt</b> mit dem PKW ist möglich </p><p class="MsoNoSpacing">Anmeldung i
 st unbedingt erforderlich</p><p class="MsoNoSpacing">E-Mail: <a href="mailt
 o:kinderflohmarkt@meinefamilie.at">kinderflohmarkt@meinefamilie.at</a><span
  class="MsoHyperlink"></span> </p><p class="MsoNoSpacing"><a href="https://
 www.meinefamilie.at/veranstaltungen/kinderflohmarkt-wien">https://www.meine
 familie.at/veranstaltungen/kinderflohmarkt-wien</a></p><p>&nbsp;</p>
CONTACT:kinderflohmarkt@meinefamilie.at
X-EXTRAINFO:[preis='000'][anmeldung='true']
DTSTAMP:20260423T110731
DTSTART:20240922T070000
DTEND:20240922T120000
SEQUENCE:0
TRANSP:OPAQUE
END:VEVENT
END:VCALENDAR