BEGIN:VCALENDAR
VERSION:2.0
PRODID:-//jEvents 2.0 for Joomla//EN
CALSCALE:GREGORIAN
METHOD:PUBLISH
BEGIN:VEVENT
UID:95dbc41804cdc1940effa0dffaf946fa
CATEGORIES:23. Bezirk
CREATED:20240715T152304
SUMMARY:Yoga für Mama mit Kleinkind (3-5 Jahre)
LOCATION:VHS Mauer\, Speisinger Straße 256\, 1230 Wien
DESCRIPTION:Gemeinsam grüßen wir die Sonne, werden starke Krieger oder verwandeln uns i
 n Löwen, Mäuse, Adler oder Hasen. Zusammen kommen wir in Bewegung und sind 
 aktiv, oder werden auch ganz ruhig und entspannt. Dabei kann ganz nebenbei 
 die Körperwahrnehmung verbessert, die Beweglichkeit, Kraftausdauer, Körperh
 altung und das Gleichgewicht trainiert werden.\nAnmeldung per Mail an mauer
 @vhs.at (mailto:mauer@vhs.at) oder online unter https://www.vhs.at/de/k/285
 693994 (https://www.vhs.at/de/k/285693994)\n
X-ALT-DESC;FMTTYPE=text/html:<p>Gemeinsam grüßen wir die Sonne, werden starke Krieger oder verwandeln un
 s in Löwen, Mäuse, Adler oder Hasen. Zusammen kommen wir in Bewegung und si
 nd aktiv, oder werden auch ganz ruhig und entspannt. Dabei kann ganz nebenb
 ei die Körperwahrnehmung verbessert, die Beweglichkeit, Kraftausdauer, Körp
 erhaltung und das Gleichgewicht trainiert werden.</p><p>Anmeldung per Mail 
 an <a href="mailto:mauer@vhs.at">mauer@vhs.at</a>&nbsp;oder online unter&nb
 sp;<a href="https://www.vhs.at/de/k/285693994">https://www.vhs.at/de/k/2856
 93994</a></p>
CONTACT:0189174/123001
X-EXTRAINFO:[preis='5700'][anmeldung='true']
DTSTAMP:20260423T171627
DTSTART:20240925T143000
DTEND:20241106T163000
SEQUENCE:0
TRANSP:OPAQUE
END:VEVENT
END:VCALENDAR