BEGIN:VCALENDAR
VERSION:2.0
PRODID:-//jEvents 2.0 for Joomla//EN
CALSCALE:GREGORIAN
METHOD:PUBLISH
BEGIN:VEVENT
UID:bd5b976da4db26b154a006b317c06d01
CATEGORIES:15. Bezirk
CREATED:19700101T010000
SUMMARY:Mama-Baby-Yoga
LOCATION:VHS Rudolfsheim-Fünfhaus
DESCRIPTION:<p>Mit sanften Yoga-Übungen wird der Beckenboden gestärkt und die Rücken- u
 nd Bauchmuskulatur trainiert. Entspannungselemente tragen zum körperlichen 
 und seelischen Wohlbefinden bei. Die Möglichkeit zum Erfahrungsaustausch mi
 t anderen Müttern gibt zudem mehr Sicherheit in der neuen Lebensphase. Das 
 Baby ist mit dabei (ab der 8 Woche)</p>
CONTACT:01/891 74 115 000
X-EXTRAINFO:[preis='3200'][anmeldung='true']
DTSTAMP:20260423T095502
DTSTART:20240806T083000
DTEND:20240806T093000
SEQUENCE:0
RRULE:FREQ=WEEKLY;COUNT=4;INTERVAL=1;BYDAY=TU
TRANSP:OPAQUE
END:VEVENT
END:VCALENDAR