BEGIN:VCALENDAR
VERSION:2.0
PRODID:-//jEvents 2.0 for Joomla//EN
CALSCALE:GREGORIAN
METHOD:PUBLISH
BEGIN:VEVENT
UID:885a04effddaaa3ca45c2a33fe409232
CATEGORIES:15. Bezirk
CREATED:20240722T125430
SUMMARY:Geschwister Workshop – ältere Geschwister auf das Baby vorbereiten
LOCATION:VHS Rudolfsheim-Fünfhaus
DESCRIPTION:<p>Mama und Papa teilen, plötzlich der oder die vernünftige „Große“ sein - 
 und nichts ist mehr wie früher. Neben all der Freude und Liebe bedeutet ein
  Geschwisterchen für Kinder eine riesige Unsicherheit. Das Gefühl, nicht me
 hr wertvoll zu sein, wenn man so leicht „ersetzt“ werden kann. Dieser unter
 schwellige Geschwisterkonflikt kann sich sofort oder auch noch Jahre danach
  z.B. in Aggression äußern.&nbsp;</p><p>Um dem von Beginn an vorzubeugen un
 d damit Ihr Euer Kind optimal dabei unterstützen und begleiten könnt, ein g
 eliebtes und sicheres großes Geschwisterchen zu werden, vermittelt dieser V
 ortrag Verständnis für die Gefühlswelt eures Kindes und praktische Tools, w
 ie ihr sein Selbstgefühl in dieser Zeit stärken könnt.</p>
CONTACT:01/891 74 115 000
X-EXTRAINFO:[preis='1800'][anmeldung='true']
DTSTAMP:20260423T082811
DTSTART:20241008T073000
DTEND:20241008T093000
SEQUENCE:0
TRANSP:OPAQUE
END:VEVENT
END:VCALENDAR