BEGIN:VCALENDAR
VERSION:2.0
PRODID:-//jEvents 2.0 for Joomla//EN
CALSCALE:GREGORIAN
METHOD:PUBLISH
BEGIN:VEVENT
UID:6709c568ade941465488a6a1c0171859
CATEGORIES:15. Bezirk
CREATED:19700101T010000
SUMMARY:Eltern-Kind-Turnen (1,5- 3,5 Jahre)
LOCATION:VHS Rudolfsheim-Fünfhaus
DESCRIPTION:Dieses abwechslungsreiche Spiel- und Bewegungsprogramm bietet Kindern die M
 öglichkeit, gemeinsam mit ihren Eltern neue Bewegungserfahrungen zu machen.
  Sie entwickeln dadurch mehr Sicherheit und Vertrauen in die eigenen Fähigk
 eiten. Oft findet in diesem Rahmen der erste, behutsam begleitete Kontakt m
 it anderen Kindern statt. Altersgerechte Spiele, Tänze und jede Menge Geleg
 enheit zum Turnen und Toben fördern Beweglichkeit, Geschicklichkeit und Rhy
 thmusgefühl. Ziel: Die Kinder verfügen über mehr Bewegungssicherheit und -f
 reiheit im Alltag.\n \n
X-ALT-DESC;FMTTYPE=text/html:<p>Dieses abwechslungsreiche Spiel- und Bewegungsprogramm bietet Kindern di
 e Möglichkeit, gemeinsam mit ihren Eltern neue Bewegungserfahrungen zu mach
 en. Sie entwickeln dadurch mehr Sicherheit und Vertrauen in die eigenen Fäh
 igkeiten. Oft findet in diesem Rahmen der erste, behutsam begleitete Kontak
 t mit anderen Kindern statt. Altersgerechte Spiele, Tänze und jede Menge Ge
 legenheit zum Turnen und Toben fördern Beweglichkeit, Geschicklichkeit und 
 Rhythmusgefühl. Ziel: Die Kinder verfügen über mehr Bewegungssicherheit und
  -freiheit im Alltag.</p><p>&nbsp;</p>
CONTACT:01/891 74 115 000
X-EXTRAINFO:[preis='5100'][anmeldung='true']
DTSTAMP:20260423T111421
DTSTART:20240924T130000
DTEND:20240924T140000
SEQUENCE:0
RRULE:FREQ=WEEKLY;COUNT=7;INTERVAL=1;BYDAY=TU
TRANSP:OPAQUE
END:VEVENT
END:VCALENDAR