BEGIN:VCALENDAR
VERSION:2.0
PRODID:-//jEvents 2.0 for Joomla//EN
CALSCALE:GREGORIAN
METHOD:PUBLISH
BEGIN:VEVENT
UID:dd36f92177db7be6ae580e5fe900884f
CATEGORIES:15. Bezirk
CREATED:19700101T010000
SUMMARY:Eltern-Kind-Taekwondo (2- 4,5 Jahre)
LOCATION:VHS Rudolfsheim-Fünfhaus
DESCRIPTION:<p>Taekwondo (koreanisch: Weg der Hand- und Fußtechnik) ist eine Kampfkunst
 , bei der sowohl Hand- als auch Beintechniken angewandt werden. Von anderen
  asiatischen Kampfkünsten unterscheidet sich Taekwondo vor allem durch die 
 Schnelligkeit und Dynamik.</p>
CONTACT:01/891 74 115 000
X-EXTRAINFO:[preis='5700'][anmeldung='true']
DTSTAMP:20260423T111905
DTSTART:20240923T150000
DTEND:20240923T160000
SEQUENCE:0
RRULE:FREQ=WEEKLY;COUNT=7;INTERVAL=1;BYDAY=MO
TRANSP:OPAQUE
END:VEVENT
END:VCALENDAR