BEGIN:VCALENDAR
VERSION:2.0
PRODID:-//jEvents 2.0 for Joomla//EN
CALSCALE:GREGORIAN
METHOD:PUBLISH
BEGIN:VEVENT
UID:e72b16d9d0981d1cdee50eaaf0cf656a
CATEGORIES:2. Bezirk
CREATED:20240810T155051
SUMMARY:Multisensorische Entdeckungswelt, 14 Monate bis 3 Jahre TINIS KINDERZIMMER
LOCATION:Tini's Kinderzimmer
DESCRIPTION: In der “Multisensorischen Entdeckungswelt” entdecken Kleinkinder die Welt 
 mit all ihren Sinnen. Der Kurs bietet eine Vielzahl von Aktivitäten, die sp
 eziell darauf ausgerichtet sind, die sensorische Wahrnehmung der Kinder zu 
 fördern und zu erweitern.\nSchwerpunkte des Kurses:\nSensory Play: Spieleri
 sche Aktivitäten, die die Sinne anregen und die sensorische Integration unt
 erstützen. Wir arbeiten mit verschiedenen Materialien wie Reis, Linsen und 
 anderem Kleinmaterial, um unterschiedliche sensorische Erfahrungen zu ermög
 lichen.Sinne erfahren: Verschiedene Stationen und Materialien, die den Tast
 sinn, Geruchssinn, Hörsinn und Sehsinn ansprechen.Kreatives Gestalten: Bast
 el- und Malprojekte, die die Feinmotorik und Kreativität fördern.Bewegungss
 piele: Aktivitäten, die die grobmotorischen Fähigkeiten und das Körperbewus
 stsein stärken.Musik und Rhythmus: Musikalische Einheiten, die das Rhythmus
 gefühl und die auditive Wahrnehmung schulen.Ziele des Kurses:\nFörderung de
 r sensorischen Wahrnehmung und IntegrationUnterstützung der motorischen Ent
 wicklungStärkung der sozialen Fähigkeiten durch gemeinsames Spielen und Erl
 ebenAnregung der Kreativität und FantasieFür Kinder von 14 Monaten bis 3 Ja
 hre\n \nGebühr pro Kind 20€\nGebühr für Zwillinge: 36€\n \nDiese Einheit ka
 nn bis 24h vor Kursstart kostenlos storniert werden.\nAnmeldung unter Kursi
 mple | Kursangebote (https://tiniskinderzimmer.kursimple.de/Kurse?course=99
 )\n
X-ALT-DESC;FMTTYPE=text/html:<div class="course-files-dv" style="box-sizing: border-box; color: #212529;
  font-family: Titillium, sans-serif; font-size: 16px; font-style: normal; f
 ont-variant-ligatures: normal; font-variant-caps: normal; font-weight: 300;
  letter-spacing: normal; orphans: 2; text-align: left; text-indent: 0px; te
 xt-transform: none; widows: 2; word-spacing: 0px; -webkit-text-stroke-width
 : 0px; white-space: normal; background-color: #ffffff; text-decoration-thic
 kness: initial; text-decoration-style: initial; text-decoration-color: init
 ial;">&nbsp;</div><div class="course-description-dv" style="box-sizing: bor
 der-box; color: #212529; font-family: Titillium, sans-serif; font-size: 16p
 x; font-style: normal; font-variant-ligatures: normal; font-variant-caps: n
 ormal; font-weight: 300; letter-spacing: normal; orphans: 2; text-align: le
 ft; text-indent: 0px; text-transform: none; widows: 2; word-spacing: 0px; -
 webkit-text-stroke-width: 0px; white-space: normal; background-color: #ffff
 ff; text-decoration-thickness: initial; text-decoration-style: initial; tex
 t-decoration-color: initial;"><p style="box-sizing: border-box; margin: 0.8
 rem 0px 0.2rem;">In der “Multisensorischen Entdeckungswelt” entdecken Klein
 kinder die Welt mit all ihren Sinnen. Der Kurs bietet eine Vielzahl von Akt
 ivitäten, die speziell darauf ausgerichtet sind, die sensorische Wahrnehmun
 g der Kinder zu fördern und zu erweitern.</p><p style="box-sizing: border-b
 ox; margin: 0.8rem 0px 0.2rem;"><strong style="box-sizing: border-box; font
 -weight: 100;">Schwerpunkte des Kurses:</strong></p><p style="box-sizing: b
 order-box; margin: 0.8rem 0px 0.2rem;">Sensory Play:<i style="box-sizing: b
 order-box;"><span>&nbsp;</span></i>Spielerische Aktivitäten, die die Sinne 
 anregen und die sensorische Integration unterstützen. Wir arbeiten mit vers
 chiedenen Materialien wie Reis, Linsen und anderem Kleinmaterial, um unters
 chiedliche sensorische Erfahrungen zu ermöglichen.<br style="box-sizing: bo
 rder-box;" /><br style="box-sizing: border-box;" />Sinne erfahren: Verschie
 dene Stationen und Materialien, die den Tastsinn, Geruchssinn, Hörsinn und 
 Sehsinn ansprechen.<br style="box-sizing: border-box;" /><br style="box-siz
 ing: border-box;" />Kreatives Gestalten: Bastel- und Malprojekte, die die F
 einmotorik und Kreativität fördern.<br style="box-sizing: border-box;" /><b
 r style="box-sizing: border-box;" />Bewegungsspiele: Aktivitäten, die die g
 robmotorischen Fähigkeiten und das Körperbewusstsein stärken.<br style="box
 -sizing: border-box;" /><br style="box-sizing: border-box;" />Musik und Rhy
 thmus: Musikalische Einheiten, die das Rhythmusgefühl und die auditive Wahr
 nehmung schulen.<br style="box-sizing: border-box;" /><br style="box-sizing
 : border-box;" />Ziele des Kurses:</p><ul style="box-sizing: border-box; ma
 rgin-top: 0px; margin-bottom: 1rem;"><li style="box-sizing: border-box;">Fö
 rderung der sensorischen Wahrnehmung und Integration</li><li style="box-siz
 ing: border-box;">Unterstützung der motorischen Entwicklung</li><li style="
 box-sizing: border-box;">Stärkung der sozialen Fähigkeiten durch gemeinsame
 s Spielen und Erleben</li><li style="box-sizing: border-box;">Anregung der 
 Kreativität&nbsp;und&nbsp;Fantasie</li></ul><p style="box-sizing: border-bo
 x; margin: 0.8rem 0px 0.2rem;"><strong>Für Kinder von 14 Monaten bis 3 Jahr
 e</strong></p><p>&nbsp;</p><p style="box-sizing: border-box; margin: 0.8rem
  0px 0.2rem;"><strong>Gebühr pro Kind 20€</strong></p><p style="box-sizing:
  border-box; margin: 0.8rem 0px 0.2rem;"><strong>Gebühr für Zwillinge: 36€<
 /strong></p><p>&nbsp;</p><p style="box-sizing: border-box; margin: 0.8rem 0
 px 0.2rem;"><span style="box-sizing: border-box; color: #111111;">Diese Ein
 heit kann bis 24h vor Kursstart kostenlos storniert werden.</span></p><p>An
 meldung unter&nbsp;<a href="https://tiniskinderzimmer.kursimple.de/Kurse?co
 urse=99">Kursimple | Kursangebote</a></p></div>
CONTACT:tini@tiniskinderzimmer.at , 0699 17 36 01 95
X-EXTRAINFO:[preis='2000'][anmeldung='true']
DTSTAMP:20260423T234035
DTSTART:20240814T072000
DTEND:20240814T082000
SEQUENCE:0
TRANSP:OPAQUE
END:VEVENT
END:VCALENDAR