BEGIN:VCALENDAR
VERSION:2.0
PRODID:-//jEvents 2.0 for Joomla//EN
CALSCALE:GREGORIAN
METHOD:PUBLISH
BEGIN:VEVENT
UID:4b00d08a1a618353c284160e9bcfd361
CATEGORIES:2. Bezirk
CREATED:20240810T160153
SUMMARY:Bewegungsreich Krabbelalter bis 16 Monate TINIS KINDERZIMMER
LOCATION:Tini's Kinderzimmer
DESCRIPTION:<p style="box-sizing: border-box; margin: 0.8rem 0px 0.2rem; color: #212529
 ; font-family: Titillium, sans-serif; font-size: 16px;">Im Bewegungsreich w
 erden Babys auf spielerische Weise gefördert. Das Angebot bietet eine Vielz
 ahl von Aktivitäten, die die motorische Entwicklung und Koordination verbes
 sern. Darüber hinaus kann das Bewegungsreich dazu beitragen, das Selbstbewu
 sstsein und das Selbstvertrauen der Babys zu stärken. Es bietet auch eine g
 roßartige Gelegenheit, soziale Kontakte zu knüpfen und die sozialen Fähigke
 iten zu verbessern.</p><p style="box-sizing: border-box; margin: 0.8rem 0px
  0.2rem; color: #212529; font-family: Titillium, sans-serif; font-size: 16p
 x;">Die Aktivitäten sind auf die Bedürfnisse der Babys abgestimmt und biete
 n eine sichere Umgebung für sie, um zu lernen und zu wachsen.</p><p style="
 box-sizing: border-box; margin: 0.8rem 0px 0.2rem; color: #212529; font-fam
 ily: Titillium, sans-serif; font-size: 16px;">Eine typische Einheit im Bewe
 gungsreich beginnt mit gemeinsamen Liedern und Bewegungsübungen. Im Anschlu
 ss haben die Babys die Möglichkeit, sich frei im Raum zu bewegen und selbst
 ständig zu entdecken. Die Eltern begleiten ihre Kinder dabei und können ihn
 en helfen, wenn sie Unterstützung benötigen.</p><p style="box-sizing: borde
 r-box; margin: 0.8rem 0px 0.2rem; color: #212529; font-family: Titillium, s
 ans-serif; font-size: 16px;">Gebühr pro Kind 19€</p><p style="box-sizing: b
 order-box; margin: 0.8rem 0px 0.2rem; color: #212529; font-family: Titilliu
 m, sans-serif; font-size: 16px;">Gebühr für Zwillinge: 34€</p><p style="box
 -sizing: border-box; margin: 0.8rem 0px 0.2rem; color: #212529; font-family
 : Titillium, sans-serif; font-size: 16px;"><span style="box-sizing: border-
 box; color: #111111;">Diese Einheit kann bis 24h vor Kursstart kostenlos st
 orniert werden.</span></p><p>Anmeldung unter:&nbsp;<a href="https://tiniski
 nderzimmer.kursimple.de/Kurse?course=88" style="font-family: inherit; font-
 size: 1rem;">Kursimple | Kursangebote</a></p>
CONTACT:tini@tiniskinderzimmer.at , 0699 17 36 01 95
X-EXTRAINFO:[preis='1900'][anmeldung='true']
DTSTAMP:20260423T220336
DTSTART:20240827T072000
DTEND:20240827T081000
SEQUENCE:0
TRANSP:OPAQUE
END:VEVENT
END:VCALENDAR