BEGIN:VCALENDAR
VERSION:2.0
PRODID:-//jEvents 2.0 for Joomla//EN
CALSCALE:GREGORIAN
METHOD:PUBLISH
BEGIN:VEVENT
UID:682ac3af42c7a32f615235d3b9e2924f
CATEGORIES:2. Bezirk
CREATED:20240810T160354
SUMMARY:Bewegungsreich 14 bis 24 Monate TINIS KINDERZIMMER
LOCATION:Tini's Kinderzimmer
DESCRIPTION: Im Bewegungsreich werden Babys auf spielerische Weise gefördert. Das Angeb
 ot bietet eine Vielzahl von Aktivitäten, die die motorische Entwicklung und
  Koordination verbessern. Darüber hinaus kann das Bewegungsreich dazu beitr
 agen, das Selbstbewusstsein und das Selbstvertrauen der Babys zu stärken. E
 s bietet auch eine großartige Gelegenheit, soziale Kontakte zu knüpfen und 
 die sozialen Fähigkeiten zu verbessern.\nDie Aktivitäten sind auf die Bedür
 fnisse der Babys abgestimmt und bieten eine sichere Umgebung für sie, um zu
  lernen und zu wachsen.\nEine typische Einheit im Bewegungsreich beginnt mi
 t gemeinsamen Liedern und Bewegungsübungen. Im Anschluss haben die Babys di
 e Möglichkeit, sich frei im Raum zu bewegen und selbstständig zu entdecken.
  Die Eltern begleiten ihre Kinder dabei und können ihnen helfen, wenn sie U
 nterstützung benötigen.\nGebühr pro Kind 19€\nGebühr für Zwillinge: 34€\nDi
 ese Einheit kann bis 24h vor Kursstart kostenlos storniert werden.\nAnmeldu
 ng unter: Kursimple | Kursangebote (https://tiniskinderzimmer.kursimple.de/
 Kurse?course=91)\n
X-ALT-DESC;FMTTYPE=text/html:<div class="course-files-dv" style="box-sizing: border-box; color: #212529;
  font-family: Titillium, sans-serif; font-size: 16px; font-style: normal; f
 ont-variant-ligatures: normal; font-variant-caps: normal; font-weight: 300;
  letter-spacing: normal; orphans: 2; text-align: left; text-indent: 0px; te
 xt-transform: none; widows: 2; word-spacing: 0px; -webkit-text-stroke-width
 : 0px; white-space: normal; background-color: #ffffff; text-decoration-thic
 kness: initial; text-decoration-style: initial; text-decoration-color: init
 ial;">&nbsp;</div><div class="course-description-dv" style="box-sizing: bor
 der-box; color: #212529; font-family: Titillium, sans-serif; font-size: 16p
 x; font-style: normal; font-variant-ligatures: normal; font-variant-caps: n
 ormal; font-weight: 300; letter-spacing: normal; orphans: 2; text-align: le
 ft; text-indent: 0px; text-transform: none; widows: 2; word-spacing: 0px; -
 webkit-text-stroke-width: 0px; white-space: normal; background-color: #ffff
 ff; text-decoration-thickness: initial; text-decoration-style: initial; tex
 t-decoration-color: initial;"><p style="box-sizing: border-box; margin: 0.8
 rem 0px 0.2rem;">Im Bewegungsreich werden Babys auf spielerische Weise gefö
 rdert. Das Angebot bietet eine Vielzahl von Aktivitäten, die die motorische
  Entwicklung und Koordination verbessern. Darüber hinaus kann das Bewegungs
 reich dazu beitragen, das Selbstbewusstsein und das Selbstvertrauen der Bab
 ys zu stärken. Es bietet auch eine großartige Gelegenheit, soziale Kontakte
  zu knüpfen und die sozialen Fähigkeiten zu verbessern.</p><p style="box-si
 zing: border-box; margin: 0.8rem 0px 0.2rem;">Die Aktivitäten sind auf die 
 Bedürfnisse der Babys abgestimmt und bieten eine sichere Umgebung für sie, 
 um zu lernen und zu wachsen.</p><p style="box-sizing: border-box; margin: 0
 .8rem 0px 0.2rem;">Eine typische Einheit im Bewegungsreich beginnt mit geme
 insamen Liedern und Bewegungsübungen. Im Anschluss haben die Babys die Mögl
 ichkeit, sich frei im Raum zu bewegen und selbstständig zu entdecken. Die E
 ltern begleiten ihre Kinder dabei und können ihnen helfen, wenn sie Unterst
 ützung benötigen.</p><p style="box-sizing: border-box; margin: 0.8rem 0px 0
 .2rem;">Gebühr pro Kind 19€</p><p style="box-sizing: border-box; margin: 0.
 8rem 0px 0.2rem;">Gebühr für Zwillinge: 34€</p><p style="box-sizing: border
 -box; margin: 0.8rem 0px 0.2rem;"><span style="box-sizing: border-box; colo
 r: #111111;"><strong style="box-sizing: border-box; font-weight: 100;">Dies
 e Einheit kann bis 24h vor Kursstart kostenlos storniert werden.</strong></
 span></p><p>Anmeldung unter:&nbsp;<a href="https://tiniskinderzimmer.kursim
 ple.de/Kurse?course=91">Kursimple | Kursangebote</a></p></div>
CONTACT:tini@tiniskinderzimmer.at , 0699 17 36 01 95
X-EXTRAINFO:[preis='1900'][anmeldung='true']
DTSTAMP:20260423T220048
DTSTART:20240827T083000
DTEND:20240827T092000
SEQUENCE:0
TRANSP:OPAQUE
END:VEVENT
END:VCALENDAR