BEGIN:VCALENDAR
VERSION:2.0
PRODID:-//jEvents 2.0 for Joomla//EN
CALSCALE:GREGORIAN
METHOD:PUBLISH
BEGIN:VEVENT
UID:a89a16c22a2835a3674254448f074d20
CATEGORIES:2. Bezirk
CREATED:20240810T160651
SUMMARY:Multisensorische Entdeckungswelt TINIS KINDERZIMMER
LOCATION:Tini's Kinderzimmer
DESCRIPTION:In der “Multisensorischen Entdeckungswelt” entdecken Kleinkinder die Welt m
 it all ihren Sinnen. Der Kurs bietet eine Vielzahl von Aktivitäten, die spe
 ziell darauf ausgerichtet sind, die sensorische Wahrnehmung der Kinder zu f
 ördern und zu erweitern.\nSchwerpunkte des Kurses:\nSensory Play:Spielerisc
 he Aktivitäten, die die Sinne anregen und die sensorische Integration unter
 stützen. Wir arbeiten mit verschiedenen Materialien wie Reis, Linsen und an
 derem Kleinmaterial, um unterschiedliche sensorische Erfahrungen zu ermögli
 chen.Sinne erfahren: Verschiedene Stationen und Materialien, die den Tastsi
 nn, Geruchssinn, Hörsinn und Sehsinn ansprechen.Kreatives Gestalten: Bastel
 - und Malprojekte, die die Feinmotorik und Kreativität fördern.Bewegungsspi
 ele: Aktivitäten, die die grobmotorischen Fähigkeiten und das Körperbewusst
 sein stärken.Musik und Rhythmus: Musikalische Einheiten, die das Rhythmusge
 fühl und die auditive Wahrnehmung schulen.Ziele des Kurses:\nFörderung der 
 sensorischen Wahrnehmung und IntegrationUnterstützung der motorischen Entwi
 cklungStärkung der sozialen Fähigkeiten durch gemeinsames Spielen und Erleb
 enAnregung der Kreativität und Fantasie \nFür Kinder von 14 Monaten bis 3 J
 ahren\n \nGebühr pro Kind 20€\nGebühr für Zwillinge: 36€\n \nDiese Einheit 
 kann bis 24h vor Kursstart kostenlos storniert werden.\n
X-ALT-DESC;FMTTYPE=text/html:<p style="box-sizing: border-box; margin: 0.8rem 0px 0.2rem; color: #212529
 ; font-family: Titillium, sans-serif; font-size: 16px;">In der “Multisensor
 ischen Entdeckungswelt” entdecken Kleinkinder die Welt mit all ihren Sinnen
 . Der Kurs bietet eine Vielzahl von Aktivitäten, die speziell darauf ausger
 ichtet sind, die sensorische Wahrnehmung der Kinder zu fördern und zu erwei
 tern.</p><p style="box-sizing: border-box; margin: 0.8rem 0px 0.2rem; color
 : #212529; font-family: Titillium, sans-serif; font-size: 16px;"><span styl
 e="box-sizing: border-box;">Schwerpunkte des Kurses:</span></p><p style="bo
 x-sizing: border-box; margin: 0.8rem 0px 0.2rem; color: #212529; font-famil
 y: Titillium, sans-serif; font-size: 16px;">Sensory Play:<i style="box-sizi
 ng: border-box;"></i>Spielerische Aktivitäten, die die Sinne anregen und di
 e sensorische Integration unterstützen. Wir arbeiten mit verschiedenen Mate
 rialien wie Reis, Linsen und anderem Kleinmaterial, um unterschiedliche sen
 sorische Erfahrungen zu ermöglichen.<br style="box-sizing: border-box;" /><
 br style="box-sizing: border-box;" />Sinne erfahren: Verschiedene Stationen
  und Materialien, die den Tastsinn, Geruchssinn, Hörsinn und Sehsinn anspre
 chen.<br style="box-sizing: border-box;" /><br style="box-sizing: border-bo
 x;" />Kreatives Gestalten: Bastel- und Malprojekte, die die Feinmotorik und
  Kreativität fördern.<br style="box-sizing: border-box;" /><br style="box-s
 izing: border-box;" />Bewegungsspiele: Aktivitäten, die die grobmotorischen
  Fähigkeiten und das Körperbewusstsein stärken.<br style="box-sizing: borde
 r-box;" /><br style="box-sizing: border-box;" />Musik und Rhythmus: Musikal
 ische Einheiten, die das Rhythmusgefühl und die auditive Wahrnehmung schule
 n.<br style="box-sizing: border-box;" /><br style="box-sizing: border-box;"
  />Ziele des Kurses:</p><ul style="box-sizing: border-box; margin-top: 0px;
  margin-bottom: 1rem; color: #212529; font-family: Titillium, sans-serif; f
 ont-size: 16px;"><li style="box-sizing: border-box;">Förderung der sensoris
 chen Wahrnehmung und Integration</li><li style="box-sizing: border-box;">Un
 terstützung der motorischen Entwicklung</li><li style="box-sizing: border-b
 ox;">Stärkung der sozialen Fähigkeiten durch gemeinsames Spielen und Erlebe
 n</li><li style="box-sizing: border-box;">Anregung der Kreativität&nbsp;und
 &nbsp;Fantasie</li></ul><p>&nbsp;</p><p style="box-sizing: border-box; marg
 in: 0.8rem 0px 0.2rem; color: #212529; font-family: Titillium, sans-serif; 
 font-size: 16px;"><strong>Für Kinder von 14 Monaten bis 3 Jahren</strong></
 p><p>&nbsp;</p><p style="box-sizing: border-box; margin: 0.8rem 0px 0.2rem;
  color: #212529; font-family: Titillium, sans-serif; font-size: 16px;"><str
 ong>Gebühr pro Kind 20€</strong></p><p style="box-sizing: border-box; margi
 n: 0.8rem 0px 0.2rem; color: #212529; font-family: Titillium, sans-serif; f
 ont-size: 16px;"><strong>Gebühr für Zwillinge: 36€</strong></p><p>&nbsp;</p
 ><p style="box-sizing: border-box; margin: 0.8rem 0px 0.2rem; color: #21252
 9; font-family: Titillium, sans-serif; font-size: 16px;"><span style="box-s
 izing: border-box; color: #111111;">Diese Einheit kann bis 24h vor Kursstar
 t kostenlos storniert werden.</span></p>
CONTACT:tini@tiniskinderzimmer.at , 0699 17 36 01 95
X-EXTRAINFO:[preis='2000'][anmeldung='true']
DTSTAMP:20260423T221804
DTSTART:20240828T072000
DTEND:20240828T082000
SEQUENCE:0
TRANSP:OPAQUE
END:VEVENT
END:VCALENDAR