BEGIN:VCALENDAR
VERSION:2.0
PRODID:-//jEvents 2.0 for Joomla//EN
CALSCALE:GREGORIAN
METHOD:PUBLISH
BEGIN:VEVENT
UID:419e40627c07d240a63e2d653bff0915
CATEGORIES:6. Bezirk
CREATED:20240818T195126
SUMMARY:Kinderkram-Flohmarkt
LOCATION:6.\, Sandwirtgasse 13/12
DESCRIPTION:Kinderkram-Flohmarkt\n \nStöbere im Kinderkram: Baby- und Kinderbekleidung,
  Spielzeug, Bücher, Puzzle, Schuhe, Gummistiefel, Tragetücher, Trage-Cover,
  Stoffwindeln, Fläschchenwärmer, Babyspielzeug und vieles mehr.\nFreier Ein
 tritt!\nWir freuen uns auf dich!\n \n \nFür Aussteller*innnen:\n \nStandpla
 tzgebühr: € 15,-\n \n \nAnmeldung ist unbedingt erforderlich\n \nAlle Infos
  zur Anmeldung als Aussteller*in und als Besucher*in\nfindest du hier:\nhtt
 ps://www.biolino.at/flohmarkt/ (https://www.biolino.at/flohmarkt/)\n \n
X-ALT-DESC;FMTTYPE=text/html:<p><strong>Kinderkram-Flohmarkt</strong></p><p>&nbsp;</p><p class="MsoNorma
 l">Stöbere im Kinderkram: Baby- und Kinderbekleidung, Spielzeug, Bücher, Pu
 zzle, Schuhe, Gummistiefel, Tragetücher, Trage-Cover, Stoffwindeln, Fläschc
 henwärmer, Babyspielzeug und vieles mehr.</p><p class="MsoNormal">Freier Ei
 ntritt!</p><p class="MsoNormal">Wir freuen uns auf dich!</p><p>&nbsp;</p><p
 >&nbsp;</p><p class="MsoNoSpacing">Für Aussteller*innnen:</p><p>&nbsp;</p><
 p class="MsoNoSpacing">Standplatzgebühr: € 15,-</p><p>&nbsp;</p><p>&nbsp;</
 p><p class="MsoNoSpacing">Anmeldung ist unbedingt erforderlich</p><p>&nbsp;
 </p><p>Alle Infos zur Anmeldung als Aussteller*in und als Besucher*in</p><p
 >findest du hier:</p><p><a href="https://www.biolino.at/flohmarkt/">https:/
 /www.biolino.at/flohmarkt/</a></p><p>&nbsp;</p>
CONTACT:martina.novak@biolino.at, 067762892970
X-EXTRAINFO:[preis='000'][anmeldung='true']
DTSTAMP:20260423T182451
DTSTART:20240922T100000
DTEND:20240922T150000
SEQUENCE:0
TRANSP:OPAQUE
END:VEVENT
END:VCALENDAR