BEGIN:VCALENDAR
VERSION:2.0
PRODID:-//jEvents 2.0 for Joomla//EN
CALSCALE:GREGORIAN
METHOD:PUBLISH
BEGIN:VEVENT
UID:158b9d1c4361436bbe15f56f7ef4050c
CATEGORIES:18. Bezirk
CREATED:19700101T010000
SUMMARY:Spiel & Spaß in der Mollgasse
LOCATION:Spielringel\, Mollgasse 11-13
DESCRIPTION:Spiel &amp; Spaß in der Mollgasse für Babys und Kleinkinder 8 Monate - 2 Ja
 hreStart:  10.09.2024\nMit: Claudia (https://spielringel.at/angebote/das-te
 am/claudia)\nKurstag:  Dienstag 09:30-10:30\nTermine:  10.09., 17.09., 24.0
 9., 01.10., 08.10.\nKosten:  €90,- (5 Einheiten)\nIn diesem Kurs sollen Kin
 der und Erwachsene gemeinsam viel Spaß haben. Das freie Spiel steht im Vord
 ergrund. Nebenbei werden motorische Fähigkeiten geschult, alle Sinne geförd
 ert und erste soziale Kontakte zu Gleichaltrigen gemacht.\nAuch die "Großen
 " können Erfahrungen austauschen und neue Kontakte knüpfen.\n \n \n
X-ALT-DESC;FMTTYPE=text/html:<header class="frame-header"><h2 class="element-header">Spiel &amp; Spaß in
  der Mollgasse </h2><h4>für Babys und Kleinkinder 8 Monate - 2 Jahre</h4><p
 ><span class="text-primary font-weight-bold">Start: </span> 10.09.2024</p><
 p><span class="text-primary font-weight-bold">Mit: </span><a href="https://
 spielringel.at/angebote/das-team/claudia">Claudia</a></p><p><span class="te
 xt-primary font-weight-bold">Kurstag: </span> Dienstag 09:30-10:30</p><p><s
 pan class="text-primary font-weight-bold">Termine: </span> 10.09., 17.09., 
 24.09., 01.10., 08.10.</p><p><span class="text-primary font-weight-bold">Ko
 sten: </span> €90,- (5 Einheiten)</p><p>In diesem Kurs sollen Kinder und Er
 wachsene gemeinsam viel Spaß haben. Das freie Spiel steht im Vordergrund. N
 ebenbei werden motorische Fähigkeiten geschult, alle Sinne gefördert und er
 ste soziale Kontakte zu Gleichaltrigen gemacht.</p><p>Auch die "Großen" kön
 nen Erfahrungen austauschen und neue Kontakte knüpfen.</p><p>&nbsp;</p></he
 ader><p>&nbsp;</p>
CONTACT:www.spielringel.at
X-EXTRAINFO:[preis='9000'][anmeldung='true']
DTSTAMP:20260423T094810
DTSTART:20240910T073000
DTEND:20240910T083000
SEQUENCE:0
RRULE:FREQ=WEEKLY;UNTIL=20241010T000000Z;INTERVAL=1;BYDAY=TU
TRANSP:OPAQUE
END:VEVENT
END:VCALENDAR