BEGIN:VCALENDAR
VERSION:2.0
PRODID:-//jEvents 2.0 for Joomla//EN
CALSCALE:GREGORIAN
METHOD:PUBLISH
BEGIN:VEVENT
UID:313c96e9a17c4160568c385efd9ecc34
CATEGORIES:18. Bezirk
CREATED:19700101T010000
SUMMARY:Babyklangwelt 
LOCATION:Spielringel\, Mollgasse 11-13
DESCRIPTION:Babyklangwelt für Babys (3-10 Monate) Start:  27.08.2024\nMit: Susanne (htt
 ps://spielringel.at/angebote/das-team/susanne)\nKurstag:  Dienstag 13:00-13
 :45\nTermine:  27.08., 10.09., 17.09., 24.09., 01.10.\nKosten:  €90,- (5-Wo
 chen Kurs)\nBabys lieben Klänge, Geräusche, Musik und Gesang. Gemeinsam sch
 affen wir akustische und musikalische Erlebniswelten, in die sich die Babys
  nach Möglichkeit einbringen können und erweitern dabei auch Kompetenz und 
 Repertoire das Kind im Alltag spielerisch zu fördern.\n \n
X-ALT-DESC;FMTTYPE=text/html:<div class="frame frame-default frame-type-textpic frame-layout-0 frame-bac
 kground-none frame-no-backgroundimage frame-space-before-none frame-space-a
 fter-none"><header class="frame-header"><h2 class="element-header">Babyklan
 gwelt </h2><h4>für Babys (3-10 Monate)</h4></header><div class="frame-conta
 iner"><div class="frame-inner"><div class="textpic textpic-right"><div clas
 s="textpic-item textpic-gallery"><div class="gallery-row"><div class="galle
 ry-item gallery-item-size-1">&nbsp;</div></div></div><div class="textpic-it
 em textpic-text"><p><span class="text-primary font-weight-bold">Start: </sp
 an> 27.08.2024</p><p><span class="text-primary font-weight-bold">Mit: </spa
 n><a href="https://spielringel.at/angebote/das-team/susanne">Susanne</a></p
 ><p><span class="text-primary font-weight-bold">Kurstag: </span> Dienstag 1
 3:00-13:45</p><p><span class="text-primary font-weight-bold">Termine: </spa
 n> 27.08., 10.09., 17.09., 24.09., 01.10.</p><p><span class="text-primary f
 ont-weight-bold">Kosten: </span> €90,- (5-Wochen Kurs)</p><p>Babys lieben K
 länge, Geräusche, Musik und Gesang. Gemeinsam schaffen wir akustische und m
 usikalische Erlebniswelten, in die sich die Babys nach Möglichkeit einbring
 en können und erweitern dabei auch Kompetenz und Repertoire das Kind im All
 tag spielerisch zu fördern.</p></div></div></div></div></div><p>&nbsp;</p>
CONTACT:www.spielringel.at
X-EXTRAINFO:[preis='9000'][anmeldung='true']
DTSTAMP:20260423T094440
DTSTART:20240827T110000
DTEND:20240827T114500
SEQUENCE:0
RRULE:FREQ=WEEKLY;UNTIL=20241003T000000Z;INTERVAL=1;BYDAY=TU
EXDATE:20240903T110000
TRANSP:OPAQUE
END:VEVENT
END:VCALENDAR